BEGIN:VCALENDAR
VERSION:2.0
PRODID:-//Fever Records - ECPv6.15.20//NONSGML v1.0//EN
CALSCALE:GREGORIAN
METHOD:PUBLISH
X-WR-CALNAME:Fever Records
X-ORIGINAL-URL:https://feverrecords.com
X-WR-CALDESC:Events for Fever Records
REFRESH-INTERVAL;VALUE=DURATION:PT1H
X-Robots-Tag:noindex
X-PUBLISHED-TTL:PT1H
BEGIN:VTIMEZONE
TZID:America/New_York
BEGIN:DAYLIGHT
TZOFFSETFROM:-0500
TZOFFSETTO:-0400
TZNAME:EDT
DTSTART:20220313T070000
END:DAYLIGHT
BEGIN:STANDARD
TZOFFSETFROM:-0400
TZOFFSETTO:-0500
TZNAME:EST
DTSTART:20221106T060000
END:STANDARD
BEGIN:DAYLIGHT
TZOFFSETFROM:-0500
TZOFFSETTO:-0400
TZNAME:EDT
DTSTART:20230312T070000
END:DAYLIGHT
BEGIN:STANDARD
TZOFFSETFROM:-0400
TZOFFSETTO:-0500
TZNAME:EST
DTSTART:20231105T060000
END:STANDARD
BEGIN:DAYLIGHT
TZOFFSETFROM:-0500
TZOFFSETTO:-0400
TZNAME:EDT
DTSTART:20240310T070000
END:DAYLIGHT
BEGIN:STANDARD
TZOFFSETFROM:-0400
TZOFFSETTO:-0500
TZNAME:EST
DTSTART:20241103T060000
END:STANDARD
END:VTIMEZONE
BEGIN:VEVENT
DTSTART;TZID=America/New_York:20230706T140000
DTEND;TZID=America/New_York:20230706T190000
DTSTAMP:20260420T002051
CREATED:20230628T235839Z
LAST-MODIFIED:20230628T235902Z
UID:2231-1688652000-1688670000@feverrecords.com
SUMMARY:T﻿hursday July 6th 2023 @ Saxon Grill 315 Mamaroneck Rd. Scarsdale Ny 10583
DESCRIPTION:Thursday July 6th 2023\n@\nSaxon Grill\n315 Mamaroneck Rd. Scarsdale Ny 10583\n(Exit 12 On The Hutchinson Parkway)\n \nFever Records Presents\nFreestyle Fever Thursday\nOutdoors On The Patio\n \nDj nitro Birthday Bash\n \nHosted By\nSal Abbatiello\nAnd Lori Anne\n \nMusic By\nDj Nitro\nDj Vittorio\nDj WhiteBoy KYS\nSpecial Guest DJ’s\n \nFood & Drink Specials All Night\nBottle Specials All Night\nParty 6:00pm To 11:00pm\nTable Reservations Available\nCasual Dress Code\n21 And Over\n \nAdvance Admission Only $10.00\n(Will Be More At The Door)\nFor Tickets Visit:  https://FreestyleThursdaysNitro.eventbrite.com\nFor More Info Call: 914-725-0011\n**This Event Is Weather Permitting**
URL:https://feverrecords.com/event/thursday-july-6th-2023-saxon-grill-315-mamaroneck-rd-scarsdale-ny-10583/
LOCATION:@ Saxon Grill\, Scarsdale NY\, 315 Mamaroneck Rd. Scarsdale\, New York\, 10583\, United States
CATEGORIES:Special Events
ATTACH;FMTTYPE=image/jpeg:https://feverrecords.com/wp-content/uploads/2023/06/saxon-nitro-7-6-23.jpg
END:VEVENT
BEGIN:VEVENT
DTSTART;TZID=America/New_York:20230707T143000
DTEND;TZID=America/New_York:20230707T183000
DTSTAMP:20260420T002051
CREATED:20230615T190252Z
LAST-MODIFIED:20230615T190303Z
UID:2189-1688740200-1688754600@feverrecords.com
SUMMARY:Friday July 7th 2023 @ Putnam Golf Course 187 Hill St. Mahopac Ny 10541
DESCRIPTION:Friday July 7th 2023\n@\nPutnam Golf Course\n187 Hill St. Mahopac Ny 10541 \nThe Freestyle Legends BBQ\nOutdoor On The Patio \nPerforming Live On Stage\nSafire\n“Boy I’ve Been Told”\n“Don’t Break My Heart” \nCoro\n“Where Are You Tonight”\n“Can’t Let You Go” \nHosted By Fever Records Own\nSal Abbatiello \nMusic By Fever Records & Clubkillas\nDj Whiteboy KYS \nDoors Open At 6:30pm\nFree BBQ Buffet 6:30pm – 8:00pm\nShowtime 9:00pm\nEvent Till 10:30pm \nAdvanced Tickets Only $44.00\nFor Tickets Visit Eventbrite.Com\nIncludes The All You Can Eat BBQ\nCash Bar Available\n(Will Be More At The Door) \nFor More Info Call\nFever Records: 914-725-0011\n(Bring Your Own Chairs And Blankets To Sit On)
URL:https://feverrecords.com/event/friday-july-7th-2023-putnam-golf-course-187-hill-st-mahopac-ny-10541/
LOCATION:Putnam Golf Course\, 187 Hill St.\, Mahopac\, NY\, 10541\, United States
CATEGORIES:Special Events
ATTACH;FMTTYPE=image/png:https://feverrecords.com/wp-content/uploads/2023/06/Screen-Shot-2023-06-15-at-9.58.57-AM.png
END:VEVENT
BEGIN:VEVENT
DTSTART;TZID=America/New_York:20230713T140000
DTEND;TZID=America/New_York:20230713T190000
DTSTAMP:20260420T002051
CREATED:20230629T202518Z
LAST-MODIFIED:20230712T004218Z
UID:2241-1689256800-1689274800@feverrecords.com
SUMMARY:Freestyle Fever Thursday @ Saxon Grill 315 Mamaroneck Rd. Scarsdale Ny 10583
DESCRIPTION:Thursday July 13th 2023\n@\nSaxon Grill\n315 Mamaroneck Rd. Scarsdale Ny 10583\n(Exit 12 On The Hutchinson Parkway)\n \nFever Records Presents\nFreestyle Fever Thursday\nOutdoors On The Patio\n \nPerforming Live\nC-Bank\n“Won’t Stop Loving You”\n“One More Shot”\n \nBirthday Bash For\nDj Vittorio\n \nHosted By\nSal Abbatiello\nAnd Lori Anne\n \nMusic By\nDj Vittorio\nDj WhiteBoy KYS\nSpecial Guest DJ’s\n \nFood & Drink Specials All Night\nBottle Specials All Night\nParty 6:00pm To 11:00pm\nTable Reservations Available\nCasual Dress Code\n21 And Over\n \nAdvance Admission Only $10.00\n($15 For Girls\, $20 For Guys At The Door)\nFor Tickets Visit:  https://FreestyleThursdaysCBank.eventbrite.com\nFor More Info Call: 914-725-0011\n**This Event Is Weather Permitting**
URL:https://feverrecords.com/event/thursday-july-13th-2023-saxon-grill-315-mamaroneck-rd-scarsdale-ny-10583/
LOCATION:@ Saxon Grill\, Scarsdale NY\, 315 Mamaroneck Rd. Scarsdale\, New York\, 10583\, United States
CATEGORIES:Special Events
ATTACH;FMTTYPE=image/jpeg:https://feverrecords.com/wp-content/uploads/2023/06/SAXON-C-BANK-7-13-23-1.jpg
END:VEVENT
BEGIN:VEVENT
DTSTART;TZID=America/New_York:20230715T170000
DTEND;TZID=America/New_York:20230715T183000
DTSTAMP:20260420T002051
CREATED:20230628T215642Z
LAST-MODIFIED:20230712T004258Z
UID:2224-1689440400-1689445800@feverrecords.com
SUMMARY:Saturday Night Freestyle Fever @ Gordo’s North 1006 Broadway\, Thornwood\, Ny 10594
DESCRIPTION:Saturday July 15th 2023\n@\nGordo’s North\n1006 Broadway\, Thornwood\, Ny 10594\n \nSaturday Night Freestyle Fever\n \nPerforming Live\nBetty D Of Sweet Sensation\n“Hooked On You”\n“Love Child”\n“Sincerely Yours”\n \nMusic By Fever Records & Clubkillas Own\nDj WhiteBoy KYS\n \nHosted By Fever Records\nSal Abbatiello\n \n$20 Admission (Pay At The Door)\nMusic Starts At 9:00pm\nPerformance At 11:30pm\nFood And Drink Specials All Night\nFor More Info: 914-725-0011
URL:https://feverrecords.com/event/saturday-july-15th-2023-gordos-north-1006-broadway-thornwood-ny-10594/
LOCATION:@Gordo\, 1006 Broadway\, Thornwood\, New York\, NY\, 10594\, United States
CATEGORIES:Special Events
ATTACH;FMTTYPE=image/jpeg:https://feverrecords.com/wp-content/uploads/2023/06/gordos-north-sweet-sensation-7-15-23-1.jpg
END:VEVENT
BEGIN:VEVENT
DTSTART;TZID=America/New_York:20230716T120000
DTEND;TZID=America/New_York:20230716T160000
DTSTAMP:20260420T002051
CREATED:20230530T223252Z
LAST-MODIFIED:20230607T010438Z
UID:2152-1689508800-1689523200@feverrecords.com
SUMMARY:Oldies On The Boardwalk Doo-Wop Concert @ Coney Island Amphitheater\, Brooklyn NY
DESCRIPTION:Sunday July 16th 2023\n@\nThe Coney Island Amphitheater\n3052 W 21st St\, Brooklyn\, NY 11224\n\n \nFever Entertainment & Brian Rosenberg Presents\nOldies On The Boardwalk\nDoo-Wop Concert\nPerforming Live On Stage\nThe Duprees\nCharlie Thomas Drifters W/ Jeff Hall\nThe Coasters\nBobby Wilson\nStan Zizka’s Del Satins\nVito Picone & The Elegants\nThe Chiclettes\nAll Backed By The Coda Band\n\n\nHosted By Fever Records Own\nSal Abbatiello\nAnd Speedy\nMusic By\nVinnie Medugno\nDoors Open @ 5:00pm\nShowtime @ 6:000pm\nFree Concert No Tickets Needed\nFor More Info Call 914-725-0011\n 
URL:https://feverrecords.com/event/oldies-on-the-boardwalk-doo-wop-concert-coney-island-amphitheater-brooklyn-ny/
LOCATION:The Coney Island Amphitheater\, 3052 W 21st St\, Brooklyn\, NY\, 60804
CATEGORIES:Special Events
ATTACH;FMTTYPE=image/jpeg:https://feverrecords.com/wp-content/uploads/2023/05/coney-island-doo-wop-7-16-23-1.jpg
END:VEVENT
BEGIN:VEVENT
DTSTART;TZID=America/New_York:20230720T140000
DTEND;TZID=America/New_York:20230720T190000
DTSTAMP:20260420T002051
CREATED:20230719T235018Z
LAST-MODIFIED:20230719T235101Z
UID:2268-1689861600-1689879600@feverrecords.com
SUMMARY:REINA LIVE AT FREESTYLE THURSDAYS ON THE PATIO @ SAXON GRILL\, SCARSDALE NY
DESCRIPTION:Thursday July 20th 2023\n@\nSaxon Grill\n315 Mamaroneck Rd. Scarsdale Ny 10583\n(Exit 12 On The Hutchinson Parkway) \nFever Records Presents\nFreestyle Fever Thursday\nOutdoors On The Patio \nPerforming Live\nReina\n“No One’s Gonna Change You”\n“If I Close My Eyes” \nBirthday Bash For\nDj Vittorio \nHosted By\nSal Abbatiello\nAnd Lori Anne \nMusic By\nDj Vittorio\nDj WhiteBoy KYS\nSpecial Guest DJ’s \nFood & Drink Specials All Night\nBottle Specials All Night\nParty 6:00pm To 11:00pm\nTable Reservations Available\nCasual Dress Code\n21 And Over \nAdvance Admission Only $10.00\n($15 For Girls\, $20 For Guys At The Door)\nFor Tickets Visit: https://FreestyleThursdaysReina.eventbrite.com\nFor More Info Call: 914-725-0011\n**This Event Is Weather Permitting**
URL:https://feverrecords.com/event/reina-live-at-freestyle-thursdays-on-the-patio-saxon-grill-scarsdale-ny/
LOCATION:@ Saxon Grill\, Scarsdale NY\, 315 Mamaroneck Rd. Scarsdale\, New York\, 10583\, United States
CATEGORIES:Special Events
ATTACH;FMTTYPE=image/jpeg:https://feverrecords.com/wp-content/uploads/2023/07/saxon-reina.jpg
END:VEVENT
BEGIN:VEVENT
DTSTART;TZID=America/New_York:20230721T150000
DTEND;TZID=America/New_York:20230721T183000
DTSTAMP:20260420T002051
CREATED:20230620T231812Z
LAST-MODIFIED:20230620T231902Z
UID:2210-1689951600-1689964200@feverrecords.com
SUMMARY:Friday July 21st 2023 @ Joey C’s Boathouse 955 Ferry Blvd\, Stratford\, Ct 06614
DESCRIPTION:Friday July 21st 2023\n@Joey C’s Boathouse\n955 Ferry Blvd\, Stratford\, Ct 06614\nFreestyle Flashback Deck Party Pt.5\nOutside On The Water\nPerforming Live On Stage\nThe Cover Girls\n“Show Me”\n“Because Of You”\nHosted By\nSal Abbatiello\n\nMusic By\nDj WhiteBoy KYS\nDj Tony A\nMusic Starts @ 7:00pm\nShowtime @ 10:30pm\nEarly Bird Ticket Sale For First 100 People\n$20 General Admission\n$40 Vip Admission\n(Will Be More After)\nFor Tickets Visit: FreestyleFlashback5.Eventbrite.Com\nFor More Info Call: 914-725-0011
URL:https://feverrecords.com/event/friday-july-21st-2023-joey-cs-boathouse-955-ferry-blvd-stratford-ct-06614/
LOCATION:Joey C’s Boathouse\, 955 Ferry Blvd\, Stratford\, CT\, 06614\, United States
CATEGORIES:Special Events
ATTACH;FMTTYPE=image/jpeg:https://feverrecords.com/wp-content/uploads/2023/06/joey-c-boathouse-cover-girls-7-21-23.jpg
END:VEVENT
BEGIN:VEVENT
DTSTART;TZID=America/New_York:20230729T110000
DTEND;TZID=America/New_York:20230729T180000
DTSTAMP:20260420T002051
CREATED:20230530T220045Z
LAST-MODIFIED:20230530T220045Z
UID:2145-1690628400-1690653600@feverrecords.com
SUMMARY:Freestyle Feast 2023 @ L.I.C.H Amphitheater\, Farmingville NY
DESCRIPTION:Saturday July 29th 2023\n@\nL.I.C.H. Amphitheater At Bald Hill\n1 Ski Run Lane Farmingville Ny 11738\nBrian Rosenberg Ny – Fever Records – Party 105.3\nPresents Freestyle Feast 2023\nPerforming Live On Stage\nTKA\nJudy Torres\nRob Base\nLisette Melendez (Lifetime Achievement Recipient)\nSafire\nThe Cover Girls\nBrenda K Starr\nCoro\nBetty D Of Sweet Sensation\nCynthia\nRockell\nC-Bank\nJoe Zangie\nHosted By\nSal Abbatiello\nSpeedy\nMusic By\nDj Impact\nDj Whiteboy KYS\nDj Blazer One\nGates Open At 4:00pm (Dj Playing Music)\nShowtime At 6:00pm\nFor Tickets Click Here: http://bit.ly/40o77p0\nOr Visit Ticketmaster.Com\nFor More Info Call 914-725-0011
URL:https://feverrecords.com/event/freestyle-feast-2023-l-i-c-h-amphitheater-farmingville-ny/
LOCATION:@ L.I.C.H. Amphitheater At Bald Hil\, 1 Ski Run Lane Farmingville\, New York\, 11738\, United States
CATEGORIES:Special Events
ATTACH;FMTTYPE=image/jpeg:https://feverrecords.com/wp-content/uploads/2023/05/july-2923-freestyle-faest.jpeg
END:VEVENT
END:VCALENDAR