BEGIN:VCALENDAR
VERSION:2.0
PRODID:-//Fever Records - ECPv6.15.20//NONSGML v1.0//EN
CALSCALE:GREGORIAN
METHOD:PUBLISH
X-ORIGINAL-URL:https://feverrecords.com
X-WR-CALDESC:Events for Fever Records
REFRESH-INTERVAL;VALUE=DURATION:PT1H
X-Robots-Tag:noindex
X-PUBLISHED-TTL:PT1H
BEGIN:VTIMEZONE
TZID:America/New_York
BEGIN:DAYLIGHT
TZOFFSETFROM:-0500
TZOFFSETTO:-0400
TZNAME:EDT
DTSTART:20230312T070000
END:DAYLIGHT
BEGIN:STANDARD
TZOFFSETFROM:-0400
TZOFFSETTO:-0500
TZNAME:EST
DTSTART:20231105T060000
END:STANDARD
BEGIN:DAYLIGHT
TZOFFSETFROM:-0500
TZOFFSETTO:-0400
TZNAME:EDT
DTSTART:20240310T070000
END:DAYLIGHT
BEGIN:STANDARD
TZOFFSETFROM:-0400
TZOFFSETTO:-0500
TZNAME:EST
DTSTART:20241103T060000
END:STANDARD
BEGIN:DAYLIGHT
TZOFFSETFROM:-0500
TZOFFSETTO:-0400
TZNAME:EDT
DTSTART:20250309T070000
END:DAYLIGHT
BEGIN:STANDARD
TZOFFSETFROM:-0400
TZOFFSETTO:-0500
TZNAME:EST
DTSTART:20251102T060000
END:STANDARD
END:VTIMEZONE
BEGIN:VEVENT
DTSTART;TZID=America/New_York:20240316T150000
DTEND;TZID=America/New_York:20240316T193000
DTSTAMP:20260419T125940
CREATED:20240103T012851Z
LAST-MODIFIED:20240103T012851Z
UID:2546-1710601200-1710617400@feverrecords.com
SUMMARY:FOREVER FREESTYLE @ LEHMAN CENTER
DESCRIPTION:Saturday March 16th 2024\n@\nThe Lehman Center For The Performing Arts\n250 Bedford Park Boulevard West. Bronx Ny 10468\nFever Records & Sal Abbatiello Presents\nForever Freestyle 16\nPerforming Live On Stage\nTKA\nGeorge Lamond\nJudy Torres\nSafire\nBetty D Of Sweet Sensation\nCynthia\nCoro\nLisette Melendez\nC-Bank\nTwo Without Hats\n Hosted By\nSal Abbatiello\nSpeedy\n Music By\nDj Lucho\nDj WhiteBoy KYS\nDoors Open At 7:00pm\nShowtime At 8:00pm Sharp\nFor Tickets Click Here: https://bit.ly/3Re2EBK\nOr Visit: Lehmancenter.Org\nFor More Information\nCall Fever: 914-725-0011
URL:https://feverrecords.com/event/forever-freestyle-lehman-center/
LOCATION:LEHMAN CENTER\, 250 Bedford Park Boulevard Wes\, NEW YORK CITY\, NY\, 10468\, United States
CATEGORIES:Special Events
ATTACH;FMTTYPE=image/jpeg:https://feverrecords.com/wp-content/uploads/2024/01/LEHMAN-FREESTYLE-2024-3-16-24.jpg
END:VEVENT
BEGIN:VEVENT
DTSTART;TZID=America/New_York:20240323T160000
DTEND;TZID=America/New_York:20240323T193000
DTSTAMP:20260419T125940
CREATED:20240228T031422Z
LAST-MODIFIED:20240228T031422Z
UID:2595-1711209600-1711222200@feverrecords.com
SUMMARY:Nyasia Performing  @ Calandra's
DESCRIPTION:Saturday March 23rd 2024\n@Calandra’s Il Vecchio Cafe\n234 Bloomfield Ave. Caldwell NJ\n\nRetro Saturdays\nNyasia’s Record Release Party\nLive Performance By NYASIA\nSinging Her Brand New Song\n“When Will Our Hearts Be Together”\nAlong With Her Other Hits\n“Now & Forever” & “Who’s Got Your Love”\nHosted By Fever Records Own\nSal Abbatiello\nMusic By Fever Records & Clubkillas Own\nDj Whiteboy KYS\nMusic Starts @ 8:30pm\nPerformance @ 11:00pm\n\n$15 Admission Fee\nReservations Required For Dinner/Table\nFor Reservations: 973-226-8899\nFor More Info: 914-725-0011
URL:https://feverrecords.com/event/nyasia-performing-calandras/
LOCATION:Calandra’s II Vechio Cafe\, 234 Bloomfield Ave.\, Caldwell\, NJ\, 07006\, United States
CATEGORIES:Special Events
ATTACH;FMTTYPE=image/jpeg:https://feverrecords.com/wp-content/uploads/2024/02/calandras-nyasia-3-23-24.jpg
END:VEVENT
END:VCALENDAR