BEGIN:VCALENDAR
VERSION:2.0
PRODID:-//Fever Records - ECPv6.15.20//NONSGML v1.0//EN
CALSCALE:GREGORIAN
METHOD:PUBLISH
X-WR-CALNAME:Fever Records
X-ORIGINAL-URL:https://feverrecords.com
X-WR-CALDESC:Events for Fever Records
REFRESH-INTERVAL;VALUE=DURATION:PT1H
X-Robots-Tag:noindex
X-PUBLISHED-TTL:PT1H
BEGIN:VTIMEZONE
TZID:America/New_York
BEGIN:DAYLIGHT
TZOFFSETFROM:-0500
TZOFFSETTO:-0400
TZNAME:EDT
DTSTART:20230312T070000
END:DAYLIGHT
BEGIN:STANDARD
TZOFFSETFROM:-0400
TZOFFSETTO:-0500
TZNAME:EST
DTSTART:20231105T060000
END:STANDARD
BEGIN:DAYLIGHT
TZOFFSETFROM:-0500
TZOFFSETTO:-0400
TZNAME:EDT
DTSTART:20240310T070000
END:DAYLIGHT
BEGIN:STANDARD
TZOFFSETFROM:-0400
TZOFFSETTO:-0500
TZNAME:EST
DTSTART:20241103T060000
END:STANDARD
BEGIN:DAYLIGHT
TZOFFSETFROM:-0500
TZOFFSETTO:-0400
TZNAME:EDT
DTSTART:20250309T070000
END:DAYLIGHT
BEGIN:STANDARD
TZOFFSETFROM:-0400
TZOFFSETTO:-0500
TZNAME:EST
DTSTART:20251102T060000
END:STANDARD
END:VTIMEZONE
BEGIN:VEVENT
DTSTART;TZID=America/New_York:20240406T143000
DTEND;TZID=America/New_York:20240406T193000
DTSTAMP:20260419T112239
CREATED:20240116T035526Z
LAST-MODIFIED:20240116T035526Z
UID:2553-1712413800-1712431800@feverrecords.com
SUMMARY:FREESTYLE CONCERT @ NYCB THEATRE
DESCRIPTION:Saturday April 6th 2024\n@NYCB Theater At Westbury\n960 Brush Hollow Rd Westbury\, Ny 11590\nLouder Than Love Freestyle Concert\nPerforming Live On Stage\nTKA\nGeorge LaMond\nJudy Torres\nRob Base\nThe Cover Girls\nCynthia\nKim Sozzi\nLime\nAlisha\nCelebrating Brian Rosenberg’s 40th Anniversary \nHosted By\nSal Abbatiello\nSpeedy\nMusic By\nDj Johnny Shine\nDoors Open @ 6:30pm\nShowtime @ 7:30pm\nClick Here: https://livemu.sc/41SImCM\nOr For Tickets Visit Ticketmaster.Com\nFor More Info: 914-725-0011
URL:https://feverrecords.com/event/freestyle-concert-nycb-theatre/
LOCATION:@  NYCB Theater At Westbury\, 960 Brush Hollow Rd\, Westbury\, New York\, 11590
CATEGORIES:Special Events
ATTACH;FMTTYPE=image/jpeg:https://feverrecords.com/wp-content/uploads/2024/01/westbury-freestyle-4-6-24-1.jpg
END:VEVENT
BEGIN:VEVENT
DTSTART;TZID=America/New_York:20240427T143000
DTEND;TZID=America/New_York:20240427T193000
DTSTAMP:20260419T112239
CREATED:20240116T075244Z
LAST-MODIFIED:20240424T201203Z
UID:2566-1714228200-1714246200@feverrecords.com
SUMMARY:The Hudson Valley Freestyle Jam @ MJN Center
DESCRIPTION:Saturday April 27th 2024\n@MJN Center\n(Formally Mid Hudson)\n14 Civic Center Plaza Poughkeepsie NY 12601\nThe Hudson Valley Freestyle Jam\nPerforming Live On Stage\nTKA\nGeorge Lamond\nJudy Torres\nNoel\nBrenda K Starr\nCoro\nCynthia\nBetty D Of Sweet Sensation\nSoave\nHosted By\nSal Abbatiello\nMusic By\nDj Paulie Feva\nDj Tommy Nappi\nDoors Open @ 6:30pm\nShowtime @ 7:30pm\nClick Here: https://bit.ly/422t3Yn\nOr For Tickets Visit Ticketmaster.Com\nFor More Info: 914-725-0011
URL:https://feverrecords.com/event/the-hudson-valley-freestyle-jam-mjn-center/
LOCATION:@MJN Center\, Poughkeepsie NY\, 14 Civic Center Plaza\, Poughkeepsie\, New York\, NY\, 12601\, United States
CATEGORIES:Special Events
ATTACH;FMTTYPE=image/jpeg:https://feverrecords.com/wp-content/uploads/2024/01/mjn-center-mid-hudson-4-27-24-1.jpg
END:VEVENT
END:VCALENDAR