BEGIN:VCALENDAR
VERSION:2.0
PRODID:-//Fever Records - ECPv6.15.20//NONSGML v1.0//EN
CALSCALE:GREGORIAN
METHOD:PUBLISH
X-ORIGINAL-URL:https://feverrecords.com
X-WR-CALDESC:Events for Fever Records
REFRESH-INTERVAL;VALUE=DURATION:PT1H
X-Robots-Tag:noindex
X-PUBLISHED-TTL:PT1H
BEGIN:VTIMEZONE
TZID:America/New_York
BEGIN:DAYLIGHT
TZOFFSETFROM:-0500
TZOFFSETTO:-0400
TZNAME:EDT
DTSTART:20230312T070000
END:DAYLIGHT
BEGIN:STANDARD
TZOFFSETFROM:-0400
TZOFFSETTO:-0500
TZNAME:EST
DTSTART:20231105T060000
END:STANDARD
BEGIN:DAYLIGHT
TZOFFSETFROM:-0500
TZOFFSETTO:-0400
TZNAME:EDT
DTSTART:20240310T070000
END:DAYLIGHT
BEGIN:STANDARD
TZOFFSETFROM:-0400
TZOFFSETTO:-0500
TZNAME:EST
DTSTART:20241103T060000
END:STANDARD
BEGIN:DAYLIGHT
TZOFFSETFROM:-0500
TZOFFSETTO:-0400
TZNAME:EDT
DTSTART:20250309T070000
END:DAYLIGHT
BEGIN:STANDARD
TZOFFSETFROM:-0400
TZOFFSETTO:-0500
TZNAME:EST
DTSTART:20251102T060000
END:STANDARD
END:VTIMEZONE
BEGIN:VEVENT
DTSTART;TZID=America/New_York:20240504T133000
DTEND;TZID=America/New_York:20240504T193000
DTSTAMP:20260419T095442
CREATED:20240315T043621Z
LAST-MODIFIED:20240315T043621Z
UID:2613-1714829400-1714851000@feverrecords.com
SUMMARY:Freestyle Extravaganza 2024 @ Westville Music Bowl
DESCRIPTION:Saturday May 4th 2024\n@Westville Music Bowl\n45 Yale Ave. New Haven Ct\nDomain Group Presents\nFreestyle Extravaganza 2024\nPerforming Live On Stage\nStevie B\nLisa Lisa\nTKA\nJudy Torres\nNoel\nThe Cover Girls\nBetty D Of Sweet Sensation\nCynthia\nKid N Play\nOnyx\nMusic By\nDj Lucho\nDj WhiteBoy KYS\nHosted By Fever Records Own\nSal Abbatiello\nDoors Open At 5:30pm\nShowtime At 7:00pm\nFor Tickets Click Here: Https://Bit.Ly/3v8avm2\nOr Visit: Westvillemusicbowl.Com \nFor More Info Call: 914-725-0011
URL:https://feverrecords.com/event/freestyle-extravaganza-2024-westville-music-bowl/
LOCATION:@Westville Music Bowl\, 45 Yale Ave\, New Haven\, CT 06515\, New Haven\, CT\, 06515\, United States
CATEGORIES:Special Events
ATTACH;FMTTYPE=image/jpeg:https://feverrecords.com/wp-content/uploads/2024/03/WESTVILLE-BOWL-NEW-HAVEN-CT-5-4-24.jpg
END:VEVENT
BEGIN:VEVENT
DTSTART;TZID=America/New_York:20240516T140000
DTEND;TZID=America/New_York:20240516T190000
DTSTAMP:20260419T095442
CREATED:20240504T204248Z
LAST-MODIFIED:20240504T204302Z
UID:2629-1715868000-1715886000@feverrecords.com
SUMMARY:FRESSTYLE FEVER @SAXON GRILL
DESCRIPTION:Starting Thursday May 16th 2024\n(And Every Thursday After)\n@ Saxon Grill\n315 Mamaroneck Rd. Scarsdale Ny 10583\n(Exit 12 On The Hutchinson Parkway)\nFever Records Presents\nThe Original Freestyle Fever Thursday\nOutdoors On The Patio\nHosted By\nSal Abbatiello\nAnd Lori Anne\nMusic By Fever Records & ClubKillas Own\nDj WhiteBoy KYS\nDj Nitro\nAlong With Special Guest DJ’s & Performances\nFood & Drink Specials All Night\nBottle Service Available\nTable Reservations Available\nParty 6:00pm To 11:00pm\nFor Discounted Advanced Admission\nClick Here: Https://FresstyleThursdays.eventbrite.com\nOr Visit Eventbrite.Com\nFor More Info Call: 914-725-0011\nFree Parking / Casual Dress Code / 21 And Over\n**This Event Is Weather Permitting**
URL:https://feverrecords.com/event/fresstyle-fever-saxon-grill/
LOCATION:@ Saxon Grill\, Scarsdale NY\, 315 Mamaroneck Rd. Scarsdale\, New York\, 10583\, United States
CATEGORIES:Special Events
ATTACH;FMTTYPE=image/jpeg:https://feverrecords.com/wp-content/uploads/2024/05/SAXON-2024.jpg
END:VEVENT
BEGIN:VEVENT
DTSTART;TZID=America/New_York:20240517T150000
DTEND;TZID=America/New_York:20240517T150000
DTSTAMP:20260419T095442
CREATED:20240514T234550Z
LAST-MODIFIED:20240514T234550Z
UID:2635-1715958000-1715958000@feverrecords.com
SUMMARY:Dreamgirl Cynthia Foundation @The Hilton Garden Inn
DESCRIPTION:Friday\, May 17th\, 2024\n@The Hilton Garden Inn\n1100 South Ave. Staten Island Ny 10314\nThe Dreamgirl Cynthia Foundation Inc. Proudly Presents\nThe Casino Night Fundraiser\n(Proceeds To Benefit St. Jude’s Children’s Research Hospital)\nLive Performances By\nAngelo Venuto\nMaria Venuto\nLisa Messina\nVinny Medugno\nMusic Provided By Da Clubkilla\nDj Blazer One\nPlaying The Best Of Everything\nTickets Must Be Purchased In Advance.\n$140 Per Person Includes: Buffet Dinner – Open Bar – Raffles – 50/50 – Dancing – Casino Tables\nPurchase Tickets On Venmo\nVenmo: @ Dreamgirlcynthiafoundation-1\nOr Click Here: venmo.com/u/Dreamgirlcynthiafoundation-1\nEvent Starts: 7:00pm\nParty Till: 12:00am\n \nIf Anyone Is Interested In Sponsoring A Casino Table\nOr Donating A Raffle Basket\, Please Contact Kristina 917-991-4542\nFor More Information Contact Fever 914-725-0011
URL:https://feverrecords.com/event/dreamgirl-cynthia-foundation-the-hilton-garden-inn/
LOCATION:The Hilton Garden\, 1100 South Ave\, Staten Island\, New York\, NY\, 10314\, United States
CATEGORIES:Special Events
ATTACH;FMTTYPE=image/jpeg:https://feverrecords.com/wp-content/uploads/2024/05/cynthia-casino-hilton-garden-inn-2024.jpg
END:VEVENT
BEGIN:VEVENT
DTSTART;TZID=America/New_York:20240518T150000
DTEND;TZID=America/New_York:20240518T193000
DTSTAMP:20260419T095442
CREATED:20240123T231605Z
LAST-MODIFIED:20240123T231653Z
UID:2574-1716044400-1716060600@feverrecords.com
SUMMARY:The 8th Annual Freestyle @The Wellmont Theatre
DESCRIPTION:Saturday May 18th 2024\n@The Wellmont Theater\n5 Seymour St. Montclair Nj\nBrian Rosenberg & Fever Records Presents\nThe 8th Annual\nFreestyle Jersey Jam\nPerforming Live On Stage\nTKA\nJudy Torres\nNoel\nCynthia\nBetty D Of Sweet Sensation\nLisette Melendez\nSoave\nDavid Of Nice N Wild\nStrafe\nNyasia\nDenine\nMusic By\nDj Lucho\nDj Whiteboy KYS\nHosted By\nSal Abbatiello\nDoors Open At 7:00pm\nShowtime At 8:00pm\nFor Tickets Click Here: https://bit.ly/3S5Jcrp\nFor More Info Call: 914.725.0011
URL:https://feverrecords.com/event/the-8th-annual-freestyle-the-wellmont-theatre/
LOCATION:Wellmont Theater\, 5 Seymour St.\, Montclair\, NJ\, 07042\, United States
CATEGORIES:Special Events
ATTACH;FMTTYPE=image/jpeg:https://feverrecords.com/wp-content/uploads/2024/01/wellmont-theatre-jersey-jam-5-18-24.jpg
END:VEVENT
BEGIN:VEVENT
DTSTART;TZID=America/New_York:20240518T150000
DTEND;TZID=America/New_York:20240518T193000
DTSTAMP:20260419T095442
CREATED:20240126T042101Z
LAST-MODIFIED:20240126T042304Z
UID:2579-1716044400-1716060600@feverrecords.com
SUMMARY:Hip-Hop Fever 2024 @ Lehman Center
DESCRIPTION:Saturday May 18th 2024\n@The Lehman Center For The Performing Arts\n250 Bedford Park Boulevard West. Bronx Ny 10468\n \nFever Records & Sal Abbatiello Presents\nHip-Hop Fever 2024\nPerforming Live On Stage\nSugar Hill Gang\n“Rappers Delight”\nGrandmaster Melle Mel & Scorpio\n“The Message”\nBrand Nubian\n“One For All”\nOnyx\n“Slam”\nRob Base\n“It Takes Two”\nBlack Sheep\n“The Choice Is Yours”\nThe Fearless Four\n“Rockin It”\nPeter Gunz\n“Déjà Vu”\nMc Shan\n“The Bridge”\nSweet G\n“Games People Play”\nGrandmaster Caz\nOf The Cold Crush Brothers\nHosted By\nWBLS 107.5 Own Bugsy Buggs\n&\nFever Records Own Sal Abbatiello \nMusic By\nFunk Master Flex\nGrand Wizard Theodore\nDj Hollywood\nDoors Open At 7:00pm\nShowtime At 8:00pm Sharp\n \nFor Tickets Click Here: https://bit.ly/491jLOs \nOr Visit: Www.Lehmancenter.Org\nFor More Information Call Fever: 914-725-0011
URL:https://feverrecords.com/event/hip-hop-fever-2024-lehman-center/
LOCATION:LEHMAN CENTER\, 250 Bedford Park Boulevard Wes\, NEW YORK CITY\, NY\, 10468\, United States
CATEGORIES:Special Events
ATTACH;FMTTYPE=image/jpeg:https://feverrecords.com/wp-content/uploads/2024/01/LEHMAN-HIP-HOP-2024.jpg
END:VEVENT
BEGIN:VEVENT
DTSTART;TZID=America/New_York:20240523T140000
DTEND;TZID=America/New_York:20240523T180000
DTSTAMP:20260419T095442
CREATED:20240522T232304Z
LAST-MODIFIED:20240522T232304Z
UID:2641-1716472800-1716487200@feverrecords.com
SUMMARY:Freestyle Fever Thursdays @ Saxon Grill
DESCRIPTION:Thursday May 23rd 2024\n(And Every Thursday After)\n@ Saxon Grill\n315 Mamaroneck Rd. Scarsdale Ny 10583\n(Exit 12 On The Hutchinson Parkway)\nFever Records Presents\nThe Original Freestyle Fever Thursday\nOutdoors On The Patio\nHosted By\nSal Abbatiello\nAnd Lori Anne\nMusic By Fever Records & ClubKillas Own\nDj WhiteBoy KYS\nDj Nitro\nAlong With Special Guest DJ’s & Performances\nFood & Drink Specials All Night\nBottle Service Available\nTable Reservations Available\nParty 6:00pm To 11:00pm\nFor Discounted Advanced Admission\nClick Here: Https://FresstyleThursdays.eventbrite.com\nOr Visit Eventbrite.Com\nFor More Info Call: 914-725-0011\nFree Parking / Casual Dress Code / 21 And Over\n**This Event Is Weather Permitting**
URL:https://feverrecords.com/event/freestyle-fever-thursdays-saxon-grill/
LOCATION:@ Saxon Grill\, Scarsdale NY\, 315 Mamaroneck Rd. Scarsdale\, New York\, 10583\, United States
CATEGORIES:Special Events
ATTACH;FMTTYPE=image/jpeg:https://feverrecords.com/wp-content/uploads/2024/05/SAXON-2024-1.jpg
END:VEVENT
BEGIN:VEVENT
DTSTART;TZID=America/New_York:20240526T140000
DTEND;TZID=America/New_York:20240526T140000
DTSTAMP:20260419T095442
CREATED:20240308T034636Z
LAST-MODIFIED:20240308T034636Z
UID:2604-1716732000-1716732000@feverrecords.com
SUMMARY:Freestyle By The Beach @Daytona Beach
DESCRIPTION:Memorial Day Weekend\nSunday May 26th 2024\n@The Daytona Beach BandShell\n70 Boardwalk. Daytona Beach FL 32118\nChristomeli Productions Presents\nFreestyle By The Beach\n“Summer Throwback Jam”\nPerforming Live On Stage\nLisa Lisa\nTKA\nGeorge LaMond\nRob Base\nJudy Torres\nLisette Melendez\nBetty D Of Sweet Sensation\nHosted By Fever Records Own\nSal Abbatiello\nMusic By NYC’s Own\nDj Smiley\nAnd ClubKillla’s Own\nDj WhiteBoy KYS\nDoors Open At 6:00pm\nFor Tickets Click Here: https://bit.ly/4a0wcuD \nOr Visit Ticketmaster.Com\nFor More Info 914-725-0011
URL:https://feverrecords.com/event/freestyle-by-the-beach-daytona-beach/
LOCATION:@Daytona Beach BandShell\, Daytona Beach FL\, 70 Boardwalk. Daytona Beach FL 32118\, Daytona\, FL\, 32118\, United States
CATEGORIES:Special Events
ATTACH;FMTTYPE=image/jpeg:https://feverrecords.com/wp-content/uploads/2024/03/Daytona-Band-Shell-Freestyle-5-26-24-IG-1.jpg
END:VEVENT
BEGIN:VEVENT
DTSTART;TZID=America/New_York:20240530T140000
DTEND;TZID=America/New_York:20240530T190000
DTSTAMP:20260419T095442
CREATED:20240526T032057Z
LAST-MODIFIED:20240526T032057Z
UID:2683-1717077600-1717095600@feverrecords.com
SUMMARY:THE ORIGINAL FREESTYLE THURSDAYS @ SAXON GRILL
DESCRIPTION:Thursday May 30TH 2024\n(And Every Thursday)\n@Saxon Grill\n315 Mamaroneck Rd. Scarsdale Ny 10583\n(Exit 12 On The Hutchinson Parkway)\nFever Records Presents\nThe Original Freestyle Fever Thursday\nOutdoors On The Patio\nHosted By\nSal Abbatiello\nAnd Lori Anne\nMusic By Fever Records & ClubKillas Own\nDj WhiteBoy KYS\nDj Nitro\nAlong With Special Guest DJ’s & Performances\nFood & Drink Specials All Night\nBottle Service Available\nTable Reservations Available\nParty 6:00pm To 11:00pm\nFor Discounted Advanced Admission\nClick Here: https://FREESTYLETHURSDAYS.eventbrite.com \nOr Visit Eventbrite.Com\nFor More Info Call: 914-725-0011\n \nFree Parking / Casual Dress Code / 21 And Over\nThis Event Is Weather Permitting
URL:https://feverrecords.com/event/the-original-freestyle-thursdays-saxon-grill/
LOCATION:@ Saxon Grill\, Scarsdale NY\, 315 Mamaroneck Rd. Scarsdale\, New York\, 10583\, United States
CATEGORIES:Special Events
ATTACH;FMTTYPE=image/jpeg:https://feverrecords.com/wp-content/uploads/2024/05/SAXON-2024-EVERY-THUR.jpg
END:VEVENT
END:VCALENDAR