BEGIN:VCALENDAR
VERSION:2.0
PRODID:-//Fever Records - ECPv6.15.20//NONSGML v1.0//EN
CALSCALE:GREGORIAN
METHOD:PUBLISH
X-WR-CALNAME:Fever Records
X-ORIGINAL-URL:https://feverrecords.com
X-WR-CALDESC:Events for Fever Records
REFRESH-INTERVAL;VALUE=DURATION:PT1H
X-Robots-Tag:noindex
X-PUBLISHED-TTL:PT1H
BEGIN:VTIMEZONE
TZID:America/New_York
BEGIN:DAYLIGHT
TZOFFSETFROM:-0500
TZOFFSETTO:-0400
TZNAME:EDT
DTSTART:20230312T070000
END:DAYLIGHT
BEGIN:STANDARD
TZOFFSETFROM:-0400
TZOFFSETTO:-0500
TZNAME:EST
DTSTART:20231105T060000
END:STANDARD
BEGIN:DAYLIGHT
TZOFFSETFROM:-0500
TZOFFSETTO:-0400
TZNAME:EDT
DTSTART:20240310T070000
END:DAYLIGHT
BEGIN:STANDARD
TZOFFSETFROM:-0400
TZOFFSETTO:-0500
TZNAME:EST
DTSTART:20241103T060000
END:STANDARD
BEGIN:DAYLIGHT
TZOFFSETFROM:-0500
TZOFFSETTO:-0400
TZNAME:EDT
DTSTART:20250309T070000
END:DAYLIGHT
BEGIN:STANDARD
TZOFFSETFROM:-0400
TZOFFSETTO:-0500
TZNAME:EST
DTSTART:20251102T060000
END:STANDARD
END:VTIMEZONE
BEGIN:VEVENT
DTSTART;TZID=America/New_York:20240606T130000
DTEND;TZID=America/New_York:20240606T193000
DTSTAMP:20260419T081941
CREATED:20240523T004806Z
LAST-MODIFIED:20240523T004806Z
UID:2652-1717678800-1717702200@feverrecords.com
SUMMARY:Freestyle Feast 2024 @ The Catholic Health Amphitheater Bald HIll
DESCRIPTION:Saturday July 27th 2024\n@Catholic Health Amphitheater At Bald Hill\n1 Ski Run Lane Farmingville Ny 11738\n Brian Rosenberg Ny – Fever Records – Party 105.3\nPresents Freestyle Feast 2024\n25th Anniversary Of Party 105.3fm\n Performing Live On Stage\nTKA\nGeorge Lamond\nJudy Torres\nCynthia\nSafire\nBetty D Of Sweet Sensation\nBrenda K Starr\nThe Cover Girls\nC-Bank\nSoave\nJoe Zangie\nSammy Zone\nReceiving Lifetime Achievement Award\nC-Bank\n Hosted By\nSal Abbatiello\nSpeedy\n Music By\nDj Whiteboy KYS\nDj Impact\n Doors Open At 5:00pm\n(Dj’s Playing Music)\n For Tickets Click Here: https://bit.ly/3yuqIL4 \nOr Log On Ticketmaster.Com\nFor More Info Call 914-725-0011
URL:https://feverrecords.com/event/freestyle-feast-2024-the-catholic-health-amphitheater-bald-hill/
LOCATION:The Catholic Health Amphitheater Bald Hill\, 1 Ski Run Ln\, Farmingville\, NY 11738\, New York\, NY\, 11738\, United States
CATEGORIES:Special Events
ATTACH;FMTTYPE=image/jpeg:https://feverrecords.com/wp-content/uploads/2024/05/bald-hill-freestyle-7-27-24-scaled.jpg
END:VEVENT
BEGIN:VEVENT
DTSTART;TZID=America/New_York:20240606T140000
DTEND;TZID=America/New_York:20240606T190000
DTSTAMP:20260419T081941
CREATED:20240523T000207Z
LAST-MODIFIED:20240523T000224Z
UID:2646-1717682400-1717700400@feverrecords.com
SUMMARY:Judy Torres Freestyle Fever Thursdays @ Saxon Grill
DESCRIPTION:Thursday June 6th 2024\n@ Saxon Grill\n315 Mamaroneck Rd. Scarsdale Ny 10583\n(Exit 12 On The Hutchinson Parkway)\nFever Records Presents\nThe Original Freestyle Fever Thursday\nOutdoors On The Patio\nPERFORMING LIVE\nJUDY TORRES\n“No Reason To Cry”\n“Come Into My Arms”\nHosted By\nSal Abbatiello\nAnd Lori Anne\nMusic By Fever Records & ClubKillas Own\nDj WhiteBoy KYS\nDj Nitro\nAlong With Special Guest DJ’s & Performances\nFood & Drink Specials All Night\nBottle Service Available\nTable Reservations Available\nParty 6:00pm To 11:00pm\n$20 Advanced Admission\nClick Here: Https://FresstyleThursdaysJudyTorres.eventbrite.com\nOr Visit Eventbrite.Com\nFor More Info Call: 914-725-0011\nFree Parking / Casual Dress Code / 21 And Over\n**This Event Is Weather Permitting**
URL:https://feverrecords.com/event/judy-torres-freestyle-fever-thursdays-saxon-grill/
LOCATION:@ Saxon Grill\, Scarsdale NY\, 315 Mamaroneck Rd. Scarsdale\, New York\, 10583\, United States
CATEGORIES:Special Events
ATTACH;FMTTYPE=image/jpeg:https://feverrecords.com/wp-content/uploads/2024/05/freestyle-saxon-judy-torres-6-6-24.jpeg
END:VEVENT
BEGIN:VEVENT
DTSTART;TZID=America/New_York:20240608T160000
DTEND;TZID=America/New_York:20240608T193000
DTSTAMP:20260419T081941
CREATED:20240605T025300Z
LAST-MODIFIED:20240605T025300Z
UID:2691-1717862400-1717875000@feverrecords.com
SUMMARY:Pretty Poison Feat. Jade @ Calandra's Italian Village
DESCRIPTION:Saturday June 8th 2024\n@Calandra’s Il Vecchio Cafe\n234 Bloomfield Ave. Caldwell NJ\nRetro Saturdays\nLive Performance By\nPretty Poison Feat. Jade Starling\nHosted By Fever Records Own\nSal Abbatiello\nMusic By Fever Records & Clubkillas Own\nDj Whiteboy KYS\nMusic Starts @ 8:30pm\nPerformance @ 11:00pm\n$10 Admission Fee\nReservations Required For Dinner/Table\nFor Reservations: 973-226-8899\nFor More Info: 914-725-0011
URL:https://feverrecords.com/event/pretty-poison-feat-jade-calandras-italian-village/
LOCATION:Calandra’s II Vechio Cafe\, 234 Bloomfield Ave.\, Caldwell\, NJ\, 07006\, United States
CATEGORIES:Special Events
ATTACH;FMTTYPE=image/jpeg:https://feverrecords.com/wp-content/uploads/2024/06/calandras-pretty-poison-6-8-24.jpg
END:VEVENT
BEGIN:VEVENT
DTSTART;TZID=America/New_York:20240620T140000
DTEND;TZID=America/New_York:20240620T193000
DTSTAMP:20260419T081941
CREATED:20240618T061940Z
LAST-MODIFIED:20240618T061940Z
UID:2721-1718892000-1718911800@feverrecords.com
SUMMARY:Reina Performing Live Freestyle Fever @Saxon Grill
DESCRIPTION:Thursday June 20th 2024\n@Saxon Grill\n315 Mamaroneck Rd. Scarsdale Ny 10583\n(Exit 12 On The Hutchinson Parkway)\n \nFever Records Presents\nThe Original Freestyle Fever Thursday\nOutdoors On The Patio\n \nPERFORMING LIVE\nREINA\n“No Ones Gonna Change You”\n“Find Another Women”\n \nHosted By\nSal Abbatiello\nAnd Lori Anne\n \nMusic By Fever Records & ClubKillas Own\nDj WhiteBoy KYS\nDj Nitro\nAlong With Special Guest DJ’s & Performances\n \nFood & Drink Specials All Night\nBottle Service Available\nTable Reservations Available\nParty 6:00pm To 11:00pm\n \nFor Discounted Advanced Admission\nVisit: https://freestylethursdaysreina.eventbrite.com\nFor More Info Call: 914-725-0011\nFree Parking / Casual Dress Code / 21 And Over\n**This Event Is Weather Permitting**
URL:https://feverrecords.com/event/reina-performing-live-freestyle-fever-saxon-grill/
LOCATION:@ Saxon Grill\, Scarsdale NY\, 315 Mamaroneck Rd. Scarsdale\, New York\, 10583\, United States
CATEGORIES:Special Events
ATTACH;FMTTYPE=image/jpeg:https://feverrecords.com/wp-content/uploads/2024/06/saxon-reina-2024.jpg
END:VEVENT
BEGIN:VEVENT
DTSTART;TZID=America/New_York:20240628T143000
DTEND;TZID=America/New_York:20240628T193000
DTSTAMP:20260419T081941
CREATED:20240618T074502Z
LAST-MODIFIED:20240618T074502Z
UID:2737-1719585000-1719603000@feverrecords.com
SUMMARY:France Joli & Lime Disco Night @Putnam County Golf Course
DESCRIPTION:If you enjoyed Disco Night Last Night\, Don’t Miss This Hot Ticket! Disco Night with Disco Diva\, France Joli\, and Lime! DJ Music too! \nEnjoy our all-you-can-eat BBQ Buffet and the show.\n\nGET TICKETS HERE> https://www.eventbrite.com/e/820102788517 \n\nEveryone knows the music of Disco Diva\, France Joli\, including Come to Me\, Heart to Break the Heart\, Gonna Get Over You\, and many more.\nLime sings many Disco songs\, but their big hit\, Babe\, We’re Going to Love Tonight\, will bring you right back to the good old days.\n\nDance and sing the night away!\nDoors Open at 6:30 pm\nBuffet Dinner from 6:30-8:00 pm\nShowtime 9:00 pm\n\nTickets are available for purchase online at $45 plus tax/$ 55 at the door. Tickets include a buffet dinner and live entertainment.\nGET TICKETS HERE> https://www.eventbrite.com/e/820102788517 \n\nPLEASE BRING BLANKETS AND CHAIRS.\nTable Reservations – You must have a minimum party of 8 or more to reserve a table. All tickets in your party must be purchased before reserving a table. Table reservations cannot be made on the day of the event; they must be made prior. Text Mariano at 914-424-0409 (TEXT ONLY).
URL:https://feverrecords.com/event/france-joli-lime-disco-night-putnam-county-golf-course/
LOCATION:@ Putnam County Golf Course\, Mahopac NY\, 187 Hill St. Mahopac Ny\, New York\, NY\, 10541\, United States
CATEGORIES:Special Events
ATTACH;FMTTYPE=image/jpeg:https://feverrecords.com/wp-content/uploads/2024/06/putnam-disco-june-2024.jpg
END:VEVENT
END:VCALENDAR