BEGIN:VCALENDAR
VERSION:2.0
PRODID:-//Fever Records - ECPv6.15.20//NONSGML v1.0//EN
CALSCALE:GREGORIAN
METHOD:PUBLISH
X-WR-CALNAME:Fever Records
X-ORIGINAL-URL:https://feverrecords.com
X-WR-CALDESC:Events for Fever Records
REFRESH-INTERVAL;VALUE=DURATION:PT1H
X-Robots-Tag:noindex
X-PUBLISHED-TTL:PT1H
BEGIN:VTIMEZONE
TZID:America/New_York
BEGIN:DAYLIGHT
TZOFFSETFROM:-0500
TZOFFSETTO:-0400
TZNAME:EDT
DTSTART:20220313T070000
END:DAYLIGHT
BEGIN:STANDARD
TZOFFSETFROM:-0400
TZOFFSETTO:-0500
TZNAME:EST
DTSTART:20221106T060000
END:STANDARD
BEGIN:DAYLIGHT
TZOFFSETFROM:-0500
TZOFFSETTO:-0400
TZNAME:EDT
DTSTART:20230312T070000
END:DAYLIGHT
BEGIN:STANDARD
TZOFFSETFROM:-0400
TZOFFSETTO:-0500
TZNAME:EST
DTSTART:20231105T060000
END:STANDARD
BEGIN:DAYLIGHT
TZOFFSETFROM:-0500
TZOFFSETTO:-0400
TZNAME:EDT
DTSTART:20240310T070000
END:DAYLIGHT
BEGIN:STANDARD
TZOFFSETFROM:-0400
TZOFFSETTO:-0500
TZNAME:EST
DTSTART:20241103T060000
END:STANDARD
END:VTIMEZONE
BEGIN:VEVENT
DTSTART;TZID=America/New_York:20230707T143000
DTEND;TZID=America/New_York:20230707T183000
DTSTAMP:20260420T015139
CREATED:20230615T190252Z
LAST-MODIFIED:20230615T190303Z
UID:2189-1688740200-1688754600@feverrecords.com
SUMMARY:Friday July 7th 2023 @ Putnam Golf Course 187 Hill St. Mahopac Ny 10541
DESCRIPTION:Friday July 7th 2023\n@\nPutnam Golf Course\n187 Hill St. Mahopac Ny 10541 \nThe Freestyle Legends BBQ\nOutdoor On The Patio \nPerforming Live On Stage\nSafire\n“Boy I’ve Been Told”\n“Don’t Break My Heart” \nCoro\n“Where Are You Tonight”\n“Can’t Let You Go” \nHosted By Fever Records Own\nSal Abbatiello \nMusic By Fever Records & Clubkillas\nDj Whiteboy KYS \nDoors Open At 6:30pm\nFree BBQ Buffet 6:30pm – 8:00pm\nShowtime 9:00pm\nEvent Till 10:30pm \nAdvanced Tickets Only $44.00\nFor Tickets Visit Eventbrite.Com\nIncludes The All You Can Eat BBQ\nCash Bar Available\n(Will Be More At The Door) \nFor More Info Call\nFever Records: 914-725-0011\n(Bring Your Own Chairs And Blankets To Sit On)
URL:https://feverrecords.com/event/friday-july-7th-2023-putnam-golf-course-187-hill-st-mahopac-ny-10541/
LOCATION:Putnam Golf Course\, 187 Hill St.\, Mahopac\, NY\, 10541\, United States
CATEGORIES:Special Events
ATTACH;FMTTYPE=image/png:https://feverrecords.com/wp-content/uploads/2023/06/Screen-Shot-2023-06-15-at-9.58.57-AM.png
END:VEVENT
END:VCALENDAR