BEGIN:VCALENDAR
VERSION:2.0
PRODID:-//Fever Records - ECPv6.15.20//NONSGML v1.0//EN
CALSCALE:GREGORIAN
METHOD:PUBLISH
X-WR-CALNAME:Fever Records
X-ORIGINAL-URL:https://feverrecords.com
X-WR-CALDESC:Events for Fever Records
REFRESH-INTERVAL;VALUE=DURATION:PT1H
X-Robots-Tag:noindex
X-PUBLISHED-TTL:PT1H
BEGIN:VTIMEZONE
TZID:America/New_York
BEGIN:DAYLIGHT
TZOFFSETFROM:-0500
TZOFFSETTO:-0400
TZNAME:EDT
DTSTART:20220313T070000
END:DAYLIGHT
BEGIN:STANDARD
TZOFFSETFROM:-0400
TZOFFSETTO:-0500
TZNAME:EST
DTSTART:20221106T060000
END:STANDARD
BEGIN:DAYLIGHT
TZOFFSETFROM:-0500
TZOFFSETTO:-0400
TZNAME:EDT
DTSTART:20230312T070000
END:DAYLIGHT
BEGIN:STANDARD
TZOFFSETFROM:-0400
TZOFFSETTO:-0500
TZNAME:EST
DTSTART:20231105T060000
END:STANDARD
BEGIN:DAYLIGHT
TZOFFSETFROM:-0500
TZOFFSETTO:-0400
TZNAME:EDT
DTSTART:20240310T070000
END:DAYLIGHT
BEGIN:STANDARD
TZOFFSETFROM:-0400
TZOFFSETTO:-0500
TZNAME:EST
DTSTART:20241103T060000
END:STANDARD
END:VTIMEZONE
BEGIN:VEVENT
DTSTART;TZID=America/New_York:20230804T143000
DTEND;TZID=America/New_York:20230804T193000
DTSTAMP:20260420T002047
CREATED:20230720T023038Z
LAST-MODIFIED:20230720T023038Z
UID:2288-1691159400-1691177400@feverrecords.com
SUMMARY:Freestyle Legends BBQ W/ Noel\, Lisette Melendez\, And Alisha @ Putnam County Golf Course\, Mahopac NY
DESCRIPTION:Friday August 4th 2023\n@\nPutnam Golf Course\n187 Hill St. Mahopac Ny 10541\n \n \nThe Freestyle Legends BBQ\nOutdoor On The Patio\n \nPerforming Live On Stage\n\nNoel\n“Silent Morning”\n“The Question”\n \nLisette Melendez\n“Together Forever”\n“A Day In My Life”\n \nAlisha\n“Too Turned On”\n“Baby Talk”\n \n \nHosted By Fever Records Own\nSal Abbatiello\n \nMusic By Fever Records & Clubkillas\nDj Whiteboy KYS\n \n \nDoors Open At 6:30pm\nFree BBQ Buffet 6:30pm – 8:00pm\nShowtime 9:00pm\nEvent Till 10:30pm\n \n \nAdvanced Tickets Only $44.00\nFor Tickets\nClick Here: https://bit.ly/44ouNf1 \nOr Visit Eventbrite.Com\nIncludes The All You Can Eat BBQ\nCash Bar Available\n(Will Be More At The Door)\n \n \nFor More Info Call\nFever Records: 914-725-0011\n(Bring Your Own Chairs And Blankets To Sit On)
URL:https://feverrecords.com/event/freestyle-legends-bbq-w-noel-lisette-melendez-and-alisha-putnam-county-golf-course-mahopac-ny/
LOCATION:@ Putnam County Golf Course\, Mahopac NY\, 187 Hill St. Mahopac Ny\, New York\, NY\, 10541\, United States
CATEGORIES:Special Events
ATTACH;FMTTYPE=image/jpeg:https://feverrecords.com/wp-content/uploads/2023/07/putnam-freestyle-8-4-23.jpg
END:VEVENT
END:VCALENDAR