BEGIN:VCALENDAR
VERSION:2.0
PRODID:-//Fever Records - ECPv6.15.20//NONSGML v1.0//EN
CALSCALE:GREGORIAN
METHOD:PUBLISH
X-WR-CALNAME:Fever Records
X-ORIGINAL-URL:https://feverrecords.com
X-WR-CALDESC:Events for Fever Records
REFRESH-INTERVAL;VALUE=DURATION:PT1H
X-Robots-Tag:noindex
X-PUBLISHED-TTL:PT1H
BEGIN:VTIMEZONE
TZID:America/New_York
BEGIN:DAYLIGHT
TZOFFSETFROM:-0500
TZOFFSETTO:-0400
TZNAME:EDT
DTSTART:20220313T070000
END:DAYLIGHT
BEGIN:STANDARD
TZOFFSETFROM:-0400
TZOFFSETTO:-0500
TZNAME:EST
DTSTART:20221106T060000
END:STANDARD
BEGIN:DAYLIGHT
TZOFFSETFROM:-0500
TZOFFSETTO:-0400
TZNAME:EDT
DTSTART:20230312T070000
END:DAYLIGHT
BEGIN:STANDARD
TZOFFSETFROM:-0400
TZOFFSETTO:-0500
TZNAME:EST
DTSTART:20231105T060000
END:STANDARD
BEGIN:DAYLIGHT
TZOFFSETFROM:-0500
TZOFFSETTO:-0400
TZNAME:EDT
DTSTART:20240310T070000
END:DAYLIGHT
BEGIN:STANDARD
TZOFFSETFROM:-0400
TZOFFSETTO:-0500
TZNAME:EST
DTSTART:20241103T060000
END:STANDARD
END:VTIMEZONE
BEGIN:VEVENT
DTSTART;TZID=America/New_York:20230813T090000
DTEND;TZID=America/New_York:20230813T140000
DTSTAMP:20260420T002103
CREATED:20230711T191509Z
LAST-MODIFIED:20230712T004457Z
UID:2247-1691917200-1691935200@feverrecords.com
SUMMARY:Dare Goes Da Neighborhood LIVE Followed by DG Old Skool R&B Fever @ Now & Then NYC 290 Meserole Street Brooklyn\, NY 11206
DESCRIPTION:Sunday August 13th\n@\nNow & Then NYC\n290 Meserole Street Brooklyn\, NY 11206\n \nDare Goes Da Neighborhood LIVE Followed by DG Old Skool R&B Fever\n \nCome be a part of a LIVE studio audience for the filming of Dare Goes DaNeighborhood LIVE show with hosts DomG and Ms.Carpet along with featured guests Soave and TRE Deuce. \n \nFood available to purchase along with 2hrs of unlimited Mimosas and Sangria from 1-3PM. Live will be followed by Dreamgirl & DomG Old Skool R&B Fever with music by Club Killas own DJBlazerone. First 50 tickets sold will be up close and personal and will receive a Gift Bag. Seating for the first 50 Guests.\n \nShow And Afterparty 1:00pm – 6:00pm\nFor Tickets Click Here: https://bit.ly/3O4BAET
URL:https://feverrecords.com/event/sunday-august-13th-now-then-nyc-290-meserole-street-brooklyn-ny-11206/
LOCATION:Now & Then\, 290 Meserole St.\, Brooklyn\, New York\, 11206
CATEGORIES:Special Events
ATTACH;FMTTYPE=image/jpeg:https://feverrecords.com/wp-content/uploads/2023/07/https___cdn.evbuc_.com_images_539256969_1490877788323_1_original.jpg
END:VEVENT
END:VCALENDAR