BEGIN:VCALENDAR
VERSION:2.0
PRODID:-//Fever Records - ECPv6.15.20//NONSGML v1.0//EN
CALSCALE:GREGORIAN
METHOD:PUBLISH
X-WR-CALNAME:Fever Records
X-ORIGINAL-URL:https://feverrecords.com
X-WR-CALDESC:Events for Fever Records
REFRESH-INTERVAL;VALUE=DURATION:PT1H
X-Robots-Tag:noindex
X-PUBLISHED-TTL:PT1H
BEGIN:VTIMEZONE
TZID:America/New_York
BEGIN:DAYLIGHT
TZOFFSETFROM:-0500
TZOFFSETTO:-0400
TZNAME:EDT
DTSTART:20220313T070000
END:DAYLIGHT
BEGIN:STANDARD
TZOFFSETFROM:-0400
TZOFFSETTO:-0500
TZNAME:EST
DTSTART:20221106T060000
END:STANDARD
BEGIN:DAYLIGHT
TZOFFSETFROM:-0500
TZOFFSETTO:-0400
TZNAME:EDT
DTSTART:20230312T070000
END:DAYLIGHT
BEGIN:STANDARD
TZOFFSETFROM:-0400
TZOFFSETTO:-0500
TZNAME:EST
DTSTART:20231105T060000
END:STANDARD
BEGIN:DAYLIGHT
TZOFFSETFROM:-0500
TZOFFSETTO:-0400
TZNAME:EDT
DTSTART:20240310T070000
END:DAYLIGHT
BEGIN:STANDARD
TZOFFSETFROM:-0400
TZOFFSETTO:-0500
TZNAME:EST
DTSTART:20241103T060000
END:STANDARD
END:VTIMEZONE
BEGIN:VEVENT
DTSTART;TZID=America/New_York:20230821T080000
DTEND;TZID=America/New_York:20230821T140000
DTSTAMP:20260420T002045
CREATED:20230801T181050Z
LAST-MODIFIED:20230801T181050Z
UID:2307-1692604800-1692626400@feverrecords.com
SUMMARY:FREESTYLE POOL PARTY & K7'S BIRTHDAY BASH @ H2Q BEACH CLUB\, OCEAN CASINO ATLANTIC CITY NJ
DESCRIPTION:Sunday August 21st 2022\n@\nHQ2 Beach Club (Ocean Casino Resort)\n500 Boardwalk. Atlantic City\, NJ 08401\n \nThe Freestyle Pool Party Surf Club Reunion\nAnd K7’s Birthday Celebration\n \nPerforming Live\nTKA\n“Maria”\n“Come Baby Come”\n“Tears May Fall”\n \nGeorge LaMond\n“Bad Of The Heart”\n“Without You”\n“Look Into My Eyes”\n \nMusic By Dj’s\nNicky G\nMike Rizzo\nGeorge Calle\nKirk Lopez\n \nAdvanced Tickets Only $20\nFor Tickets Click Here: https://bit.ly/43NeCGT\nOr Visit: Www.Hq2Ac.Com\nDoors Open At 12:00pm\nParty Till 6:00pm\nFor More Info: 914-725-0011\nThis Is A 21 And Over Event
URL:https://feverrecords.com/event/freestyle-pool-party-k7s-birthday-bash-h2q-beach-club-ocean-casino-atlantic-city-nj/
LOCATION:Ocean Casino Resort – HQ2 Beach Club\, 500 Boardwalk\, Atlantic City\, New Jersey\, 08401
CATEGORIES:Special Events
ATTACH;FMTTYPE=image/jpeg:https://feverrecords.com/wp-content/uploads/2023/08/ocean-casino-pool-2023.jpg
END:VEVENT
END:VCALENDAR