BEGIN:VCALENDAR
VERSION:2.0
PRODID:-//Fever Records - ECPv6.15.20//NONSGML v1.0//EN
CALSCALE:GREGORIAN
METHOD:PUBLISH
X-ORIGINAL-URL:https://feverrecords.com
X-WR-CALDESC:Events for Fever Records
REFRESH-INTERVAL;VALUE=DURATION:PT1H
X-Robots-Tag:noindex
X-PUBLISHED-TTL:PT1H
BEGIN:VTIMEZONE
TZID:America/New_York
BEGIN:DAYLIGHT
TZOFFSETFROM:-0500
TZOFFSETTO:-0400
TZNAME:EDT
DTSTART:20220313T070000
END:DAYLIGHT
BEGIN:STANDARD
TZOFFSETFROM:-0400
TZOFFSETTO:-0500
TZNAME:EST
DTSTART:20221106T060000
END:STANDARD
BEGIN:DAYLIGHT
TZOFFSETFROM:-0500
TZOFFSETTO:-0400
TZNAME:EDT
DTSTART:20230312T070000
END:DAYLIGHT
BEGIN:STANDARD
TZOFFSETFROM:-0400
TZOFFSETTO:-0500
TZNAME:EST
DTSTART:20231105T060000
END:STANDARD
BEGIN:DAYLIGHT
TZOFFSETFROM:-0500
TZOFFSETTO:-0400
TZNAME:EDT
DTSTART:20240310T070000
END:DAYLIGHT
BEGIN:STANDARD
TZOFFSETFROM:-0400
TZOFFSETTO:-0500
TZNAME:EST
DTSTART:20241103T060000
END:STANDARD
END:VTIMEZONE
BEGIN:VEVENT
DTSTART;TZID=America/New_York:20230825T150000
DTEND;TZID=America/New_York:20230825T183000
DTSTAMP:20260420T002107
CREATED:20230801T181734Z
LAST-MODIFIED:20230801T181734Z
UID:2314-1692975600-1692988200@feverrecords.com
SUMMARY:FRESSTYLE DECK PARTY PT. 6 W/ LISETTE MELENDEZ @ JOEY C'S BOATHOUSE\, STRATFORD CT
DESCRIPTION:Friday August 25th 2023\n@\nJoey C’s Boathouse\n955 Ferry Blvd\, Stratford\, Ct 06614\n \nFreestyle Flashback Deck Party Pt.6\nOutside On The Water\n \nPerforming Live On Stage\nLisette Melendez\n“Together Forever”\n“A Day In My Life”\n \nHosted By\nSal Abbatiello\n \nMusic By\nDj WhiteBoy KYS\nDj Tony A\nDj Cribb\n \nBirthday Celebration For\nLisette Melendez\nJoey C\nAnna Gina\nEddie Melendez\n \nMusic Starts @ 7:00pm\nShowtime @ 10:30pm\n \nEarly Bird Ticket Sale For First 100 People\n$20 General Admission\n$40 Vip Admission\n(Will Be More After)\n \nFor Tickets Visit: FreestyleFlashback6.Eventbrite.Com\nFor More Info Call: 914-725-0011\n** EVENT WILL BE RAIN OR SHINE **
URL:https://feverrecords.com/event/fresstyle-deck-party-pt-6-w-lisette-melendez-joey-cs-boathouse-stratford-ct/
LOCATION:Joey C’s Boathouse\, 955 Ferry Blvd\, Stratford\, CT\, 06614\, United States
CATEGORIES:Special Events
ATTACH;FMTTYPE=image/jpeg:https://feverrecords.com/wp-content/uploads/2023/08/joey-c-boathouse-lisette-melendez-8-25-23.jpg
END:VEVENT
END:VCALENDAR