BEGIN:VCALENDAR
VERSION:2.0
PRODID:-//Fever Records - ECPv6.15.20//NONSGML v1.0//EN
CALSCALE:GREGORIAN
METHOD:PUBLISH
X-ORIGINAL-URL:https://feverrecords.com
X-WR-CALDESC:Events for Fever Records
REFRESH-INTERVAL;VALUE=DURATION:PT1H
X-Robots-Tag:noindex
X-PUBLISHED-TTL:PT1H
BEGIN:VTIMEZONE
TZID:America/New_York
BEGIN:DAYLIGHT
TZOFFSETFROM:-0500
TZOFFSETTO:-0400
TZNAME:EDT
DTSTART:20220313T070000
END:DAYLIGHT
BEGIN:STANDARD
TZOFFSETFROM:-0400
TZOFFSETTO:-0500
TZNAME:EST
DTSTART:20221106T060000
END:STANDARD
BEGIN:DAYLIGHT
TZOFFSETFROM:-0500
TZOFFSETTO:-0400
TZNAME:EDT
DTSTART:20230312T070000
END:DAYLIGHT
BEGIN:STANDARD
TZOFFSETFROM:-0400
TZOFFSETTO:-0500
TZNAME:EST
DTSTART:20231105T060000
END:STANDARD
BEGIN:DAYLIGHT
TZOFFSETFROM:-0500
TZOFFSETTO:-0400
TZNAME:EDT
DTSTART:20240310T070000
END:DAYLIGHT
BEGIN:STANDARD
TZOFFSETFROM:-0400
TZOFFSETTO:-0500
TZNAME:EST
DTSTART:20241103T060000
END:STANDARD
END:VTIMEZONE
BEGIN:VEVENT
DTSTART;TZID=America/New_York:20230831T140000
DTEND;TZID=America/New_York:20230831T190000
DTSTAMP:20260419T225757
CREATED:20230824T233535Z
LAST-MODIFIED:20230824T233535Z
UID:2374-1693490400-1693508400@feverrecords.com
SUMMARY:FASCINATION LIVE FREESTYLE THURSDAY'S ON THE PATIO @ SAXON GRILL\, SCARSDALE NY
DESCRIPTION:Thursday August 31st 2023\n@\nSaxon Grill\n315 Mamaroneck Rd. Scarsdale Ny 10583\n(Exit 12 On The Hutchinson Parkway)\n \nFever Records Presents\nFreestyle Fever Thursday\nOutdoors On The Patio\n \nLive Performance By\nFascination\n“Don’t You Think It’s Time”\n“Why You Wanna Go”\n \nHosted By\nSal Abbatiello\nAnd Lori Anne\n \nMusic By\nDj Vittorio\nDj WhiteBoy KYS\nDj Nitro\nSpecial Guest DJ’s\n\n \nFood & Drink Specials All Night\nBottle Specials All Night\nParty 6:00pm To 11:00pm\nTable Reservations Available\nCasual Dress Code\n21 And Over\n \nAdvance Admission Only $10.00\n($15 For Girls and $20 For Guys At The Door)\nFor Tickets Visit: https://FreestyleThursdaysFascination.eventbrite.com\nFor More Info Call: 914-725-0011\n**This Event Is Weather Permitting** 
URL:https://feverrecords.com/event/fascination-live-freestyle-thursdays-on-the-patio-saxon-grill-scarsdale-ny/
LOCATION:Saxon Grill\, 315 Mamaroneck Rd\, Scarsdale\, United States
CATEGORIES:Special Events
ATTACH;FMTTYPE=image/jpeg:https://feverrecords.com/wp-content/uploads/2023/08/saxon-fascination-8-31-23.jpg
END:VEVENT
END:VCALENDAR