BEGIN:VCALENDAR
VERSION:2.0
PRODID:-//Fever Records - ECPv6.15.20//NONSGML v1.0//EN
CALSCALE:GREGORIAN
METHOD:PUBLISH
X-WR-CALNAME:Fever Records
X-ORIGINAL-URL:https://feverrecords.com
X-WR-CALDESC:Events for Fever Records
REFRESH-INTERVAL;VALUE=DURATION:PT1H
X-Robots-Tag:noindex
X-PUBLISHED-TTL:PT1H
BEGIN:VTIMEZONE
TZID:America/New_York
BEGIN:DAYLIGHT
TZOFFSETFROM:-0500
TZOFFSETTO:-0400
TZNAME:EDT
DTSTART:20220313T070000
END:DAYLIGHT
BEGIN:STANDARD
TZOFFSETFROM:-0400
TZOFFSETTO:-0500
TZNAME:EST
DTSTART:20221106T060000
END:STANDARD
BEGIN:DAYLIGHT
TZOFFSETFROM:-0500
TZOFFSETTO:-0400
TZNAME:EDT
DTSTART:20230312T070000
END:DAYLIGHT
BEGIN:STANDARD
TZOFFSETFROM:-0400
TZOFFSETTO:-0500
TZNAME:EST
DTSTART:20231105T060000
END:STANDARD
BEGIN:DAYLIGHT
TZOFFSETFROM:-0500
TZOFFSETTO:-0400
TZNAME:EDT
DTSTART:20240310T070000
END:DAYLIGHT
BEGIN:STANDARD
TZOFFSETFROM:-0400
TZOFFSETTO:-0500
TZNAME:EST
DTSTART:20241103T060000
END:STANDARD
END:VTIMEZONE
BEGIN:VEVENT
DTSTART;TZID=America/New_York:20230902T130000
DTEND;TZID=America/New_York:20230902T180000
DTSTAMP:20260419T225641
CREATED:20230523T223849Z
LAST-MODIFIED:20230523T223849Z
UID:2126-1693659600-1693677600@feverrecords.com
SUMMARY:Freestyle Beach House Concert @ Coney Island Amphitheater\, Brooklyn NY
DESCRIPTION:Saturday September 2nd 2023\n@\nThe Coney Island Amphitheater\n3052 W 21st St\, Brooklyn\, NY 11224\n\nFever Entertainment & Brian Rosenberg Presents\nThe 7Th Annual Labor Day Weekend\nFreestyle Beach House Concert\n“White Party “\n\nPerforming Live On Stage\nTKA\nGeorge Lamond\nJudy Torres\nSafire\nSoave (Lifetime Achievement Award Recipient)\nBetty D Of Sweet Sensation\nThe Cover Girls\nSugar Hill Gang\nCynthia\nC-Bank\nLime\nSammy Zone\n\nHosted By Fever Records Own\nSal Abbatiello\nAnd Speedy\n\nMusic By\nDj Lucho\nDj WhiteBoy KYS\nDoors Open @ 6:00pm\nShowtime @ 7:000pm\nFor Tickets Visit Ticketmaster.com\nFor More Info Call 914-725-0011
URL:https://feverrecords.com/event/freestyle-beach-house-concert-coney-island-amphitheater-brooklyn-ny/
LOCATION:The Coney Island Amphitheater\, 3052 W 21st St\, Brooklyn\, NY\, 60804
CATEGORIES:Special Events
ATTACH;FMTTYPE=image/jpeg:https://feverrecords.com/wp-content/uploads/2023/05/09-02-23-FREESTYLE-BEACH-HOSE-WHITE-PARTY.jpg
END:VEVENT
BEGIN:VEVENT
DTSTART;TZID=America/New_York:20230902T170000
DTEND;TZID=America/New_York:20230902T230000
DTSTAMP:20260419T225641
CREATED:20230817T205103Z
LAST-MODIFIED:20230829T195650Z
UID:2354-1693674000-1693695600@feverrecords.com
SUMMARY:FREESTYLE BEACH HOUSE CONCERT OFFICIAL AFTER PARTY @ BAR SOCIETY\, BROOKLYN NY
DESCRIPTION:Saturday September 2nd 2023\n@\nBar Society\n2102 Riegelmann Boardwalk\, Brooklyn\, NY\n(Located On The Coney Island Amp Rooftop)\n \n \nFever Records – BRNY – Brooklyn Cadillac club – NYC Fresh Kids Presents \n \n \nThe Official Freestyle Beach House Concert Afterparty\nCome Hang Out With Special Invited Artists and Dj’s From The Show\n \n \nHosted By Fever Records Own\nSal Abbatiello\n \n \nWith Music By\nDJ C4 \nDJ KS*360\nDj Henry Montalvo\nAlongside Special Guest\nDj WhiteBoy KYS\n \n \nEarly Bird Sale $20 **Limited**\nAdvanced Admission Only $30\n(Will Be More At The Door)\nVIP Bottle Service Available (Limited)\n \n \nDoors Open @ 9:00pm // Party Till @ 3:00am\nFor Tickets Visit: https://coneyafterparty.eventbrite.com\nFor More Info Call: 914-725-0011
URL:https://feverrecords.com/event/freestyle-beach-house-concert-official-after-party-bar-society-brooklyn-ny/
LOCATION:Bar Society\, 2102 Riegelmann Boardwalk\, Brooklyn\, NY\, 11224\, United States
CATEGORIES:Special Events
ATTACH;FMTTYPE=image/jpeg:https://feverrecords.com/wp-content/uploads/2023/08/CONEY-ISLAND-FREESTYLE-AFTERPARTY-9-2-23-edit-.jpg
END:VEVENT
END:VCALENDAR