BEGIN:VCALENDAR
VERSION:2.0
PRODID:-//Fever Records - ECPv6.15.20//NONSGML v1.0//EN
CALSCALE:GREGORIAN
METHOD:PUBLISH
X-WR-CALNAME:Fever Records
X-ORIGINAL-URL:https://feverrecords.com
X-WR-CALDESC:Events for Fever Records
REFRESH-INTERVAL;VALUE=DURATION:PT1H
X-Robots-Tag:noindex
X-PUBLISHED-TTL:PT1H
BEGIN:VTIMEZONE
TZID:America/New_York
BEGIN:DAYLIGHT
TZOFFSETFROM:-0500
TZOFFSETTO:-0400
TZNAME:EDT
DTSTART:20220313T070000
END:DAYLIGHT
BEGIN:STANDARD
TZOFFSETFROM:-0400
TZOFFSETTO:-0500
TZNAME:EST
DTSTART:20221106T060000
END:STANDARD
BEGIN:DAYLIGHT
TZOFFSETFROM:-0500
TZOFFSETTO:-0400
TZNAME:EDT
DTSTART:20230312T070000
END:DAYLIGHT
BEGIN:STANDARD
TZOFFSETFROM:-0400
TZOFFSETTO:-0500
TZNAME:EST
DTSTART:20231105T060000
END:STANDARD
BEGIN:DAYLIGHT
TZOFFSETFROM:-0500
TZOFFSETTO:-0400
TZNAME:EDT
DTSTART:20240310T070000
END:DAYLIGHT
BEGIN:STANDARD
TZOFFSETFROM:-0400
TZOFFSETTO:-0500
TZNAME:EST
DTSTART:20241103T060000
END:STANDARD
END:VTIMEZONE
BEGIN:VEVENT
DTSTART;TZID=America/New_York:20230903T130000
DTEND;TZID=America/New_York:20230903T180000
DTSTAMP:20260419T225733
CREATED:20230823T205112Z
LAST-MODIFIED:20230823T205112Z
UID:2364-1693746000-1693764000@feverrecords.com
SUMMARY:JUDY TORRES PERFORMING LIVE @ GARDEN BAR & GRILL\, BRONX NY
DESCRIPTION:Labor Day Weekend\nSunday September 3rd 2023\n@\nGarden Bar & Grill\n3392 E. Tremont Ave. Bronx NY 10461\n \n \nLive Performance By Freestyle Legend\nJudy Torres\n“Come Into My Arms”\n“No Reason To Cry”\nAnd Many More…\n \n \nHosted By Fever Record’s\nSal Abbatiello\n \n \nWith Music By Da ClubKillas\nDj Nitro\nDj WhiteBoy KYS\n \n \n** This Is A Free Event **\nDoors Open @ 5:00pm\nMusic 6:00pm – 10:00pm\nPerformance @ 7:30pm\n \nFor More Info: 914-725-0011\nFor Reservations: 718-684-4401
URL:https://feverrecords.com/event/judy-torres-performing-live-garden-bar-grill-bronx-ny/
LOCATION:Garden Bar & Grill\, 3392 E. Tremont Ave.\, Bronx\, NY\, 10461\, United States
CATEGORIES:Special Events
ATTACH;FMTTYPE=image/jpeg:https://feverrecords.com/wp-content/uploads/2023/08/the-garden-judy-torres-9-3-23.jpg
END:VEVENT
END:VCALENDAR