BEGIN:VCALENDAR
VERSION:2.0
PRODID:-//Fever Records - ECPv6.15.20//NONSGML v1.0//EN
CALSCALE:GREGORIAN
METHOD:PUBLISH
X-ORIGINAL-URL:https://feverrecords.com
X-WR-CALDESC:Events for Fever Records
REFRESH-INTERVAL;VALUE=DURATION:PT1H
X-Robots-Tag:noindex
X-PUBLISHED-TTL:PT1H
BEGIN:VTIMEZONE
TZID:America/New_York
BEGIN:DAYLIGHT
TZOFFSETFROM:-0500
TZOFFSETTO:-0400
TZNAME:EDT
DTSTART:20220313T070000
END:DAYLIGHT
BEGIN:STANDARD
TZOFFSETFROM:-0400
TZOFFSETTO:-0500
TZNAME:EST
DTSTART:20221106T060000
END:STANDARD
BEGIN:DAYLIGHT
TZOFFSETFROM:-0500
TZOFFSETTO:-0400
TZNAME:EDT
DTSTART:20230312T070000
END:DAYLIGHT
BEGIN:STANDARD
TZOFFSETFROM:-0400
TZOFFSETTO:-0500
TZNAME:EST
DTSTART:20231105T060000
END:STANDARD
BEGIN:DAYLIGHT
TZOFFSETFROM:-0500
TZOFFSETTO:-0400
TZNAME:EDT
DTSTART:20240310T070000
END:DAYLIGHT
BEGIN:STANDARD
TZOFFSETFROM:-0400
TZOFFSETTO:-0500
TZNAME:EST
DTSTART:20241103T060000
END:STANDARD
END:VTIMEZONE
BEGIN:VEVENT
DTSTART;TZID=America/New_York:20230924T100000
DTEND;TZID=America/New_York:20230924T140000
DTSTAMP:20260420T002132
CREATED:20230711T210549Z
LAST-MODIFIED:20230712T004559Z
UID:2252-1695549600-1695564000@feverrecords.com
SUMMARY:Dreamgirl Cynthia And Dom G Of Dare Goes Da Neighborhood Presents Dare Goes Da Dj'zz Port St. Lucie Takeover @ Vybz Lounge 2096 Northwest Courtyard Circle\, Port St. Lucie\, FL\, 34986
DESCRIPTION:Sunday September 24th 2023\n@\nVybz Lounge\n2096 Northwest Courtyard Circle\, Port St. Lucie\, FL\, 34986\n \n \nDreamgirl Cynthia And Dom G Of Dare Goes Da Neighborhood Presents\nDare Goes Da Dj’zz Port St. Lucie Takeover\nAn event you’ve never experienced before. Showcasing 2 Dj’s On Stage Side By Side Vibing With Each other.\n \n \nAlso A live Performance By\nThe Dreamgirl Herself\nCynthia\n“Change On me”\n“Dreamboy Dreamgirl”\nAnd\nC-Bank\n“Won’t Stop Loving You”\n“One More Shot”\n \n \nFeaturing Dj Performances\nBy Florida’s Own Anthony Mangini\, Along Side Miami Mike\nAnd\nNYC’s Own Dj Blazer One \, Along Side Dj WhiteBoy KYS\nHosted By\n \n \nSal Abbatiello Of Fever Records\nAnd\nDom G Of Dare Goes Da Neighborhood\n \n \nAlso Come Be Apart Of The Music Video Shoot For Cynthia’s Legendary Song “Thief Of Hearts”\nMusic Starts At 1:00pm\nShowcases And Performance Start At 2:00pm\nParty Till 6:00pm\n \nAdvanced Tickets Early Bird Sale First 100 Tickets\nVIP Admission $40\nGeneral Admission $20\n(After Sale Is Over VIP $50 & Gen $30)\nFor Tickets: Https://Daregoesdadj.Eventbrite.Com\nOr Visit Eventbrite\nFor More Info: 914-725-0011
URL:https://feverrecords.com/event/sunday-september-24th-2023-vybz-lounge-2096-northwest-courtyard-circle-port-st-lucie-fl-34986/
LOCATION:@ Vybz Lounge\, Port St. Lucie\, Florida\, FL\, 34986\, United States
CATEGORIES:Special Events
ATTACH;FMTTYPE=image/jpeg:https://feverrecords.com/wp-content/uploads/2023/07/vibz-dare-goes-da-djz-9-24-23.jpg
END:VEVENT
END:VCALENDAR