BEGIN:VCALENDAR
VERSION:2.0
PRODID:-//Fever Records - ECPv6.15.20//NONSGML v1.0//EN
CALSCALE:GREGORIAN
METHOD:PUBLISH
X-WR-CALNAME:Fever Records
X-ORIGINAL-URL:https://feverrecords.com
X-WR-CALDESC:Events for Fever Records
REFRESH-INTERVAL;VALUE=DURATION:PT1H
X-Robots-Tag:noindex
X-PUBLISHED-TTL:PT1H
BEGIN:VTIMEZONE
TZID:America/New_York
BEGIN:DAYLIGHT
TZOFFSETFROM:-0500
TZOFFSETTO:-0400
TZNAME:EDT
DTSTART:20220313T070000
END:DAYLIGHT
BEGIN:STANDARD
TZOFFSETFROM:-0400
TZOFFSETTO:-0500
TZNAME:EST
DTSTART:20221106T060000
END:STANDARD
BEGIN:DAYLIGHT
TZOFFSETFROM:-0500
TZOFFSETTO:-0400
TZNAME:EDT
DTSTART:20230312T070000
END:DAYLIGHT
BEGIN:STANDARD
TZOFFSETFROM:-0400
TZOFFSETTO:-0500
TZNAME:EST
DTSTART:20231105T060000
END:STANDARD
BEGIN:DAYLIGHT
TZOFFSETFROM:-0500
TZOFFSETTO:-0400
TZNAME:EDT
DTSTART:20240310T070000
END:DAYLIGHT
BEGIN:STANDARD
TZOFFSETFROM:-0400
TZOFFSETTO:-0500
TZNAME:EST
DTSTART:20241103T060000
END:STANDARD
END:VTIMEZONE
BEGIN:VEVENT
DTSTART;TZID=America/New_York:20230927T150000
DTEND;TZID=America/New_York:20230927T180000
DTSTAMP:20260419T212804
CREATED:20230817T204608Z
LAST-MODIFIED:20230817T204608Z
UID:2350-1695826800-1695837600@feverrecords.com
SUMMARY:THE ERIKA ROMAN CHAIRTY BOWLING FUNDRAISER @ NEW PARADISE LANES\, YONKERS NY
DESCRIPTION:Wednesday September 27th 2023\n@\nNew Paradise Lanes\n790 Yonkers Ave Yonkers\, Ny 10704\n \n \nThe 7th Annual Erika Roman Charity Foundation\nBowling Fundraiser In Honor Of Vivian Rivera\n \n \nCome Have A Good Time For A Good Cause..\nAll Proceeds Go To The American Cancer Society\nMaking Strides For Breast Cancer Walk In The Bronx\n \n \n$300 Donation Per Team (Up To 5 People Per Team)\nDonation Includes 3 Hours Of Black light Disco Bowling\, And Shoe Rental.\nThere Are Only 20 Team Lanes – First Come\, First Serve.\n**All Teams Must Be Paid For In Advance**\nEveryone Welcome To Come Watch Your Teams\, Cash Bar + Snack Bar Available\n \n \nEvent Time: 7:00pm – 10:00pm\n(Check-In Time 6:00-6:30pm)\n \n \nAll Donations Made To: The Erika Roman Charity Foundation\nFor More Information Call: 914-725-0011\nEmail: Fevermusic@Aol.Com\nOr Visit: Https://ERMFbowl.Eventbrite.Com 
URL:https://feverrecords.com/event/the-erika-roman-chairty-bowling-fundraiser-new-paradise-lanes-yonkers-ny/
LOCATION:New Paradise Lanes\, 790 Yonkers Ave\, Yonkers\, NY\, 10704\, United States
CATEGORIES:Special Events
ATTACH;FMTTYPE=image/jpeg:https://feverrecords.com/wp-content/uploads/2023/08/BOWLING-ERMF-9-27-23.jpg
END:VEVENT
END:VCALENDAR