BEGIN:VCALENDAR
VERSION:2.0
PRODID:-//Fever Records - ECPv6.15.20//NONSGML v1.0//EN
CALSCALE:GREGORIAN
METHOD:PUBLISH
X-WR-CALNAME:Fever Records
X-ORIGINAL-URL:https://feverrecords.com
X-WR-CALDESC:Events for Fever Records
REFRESH-INTERVAL;VALUE=DURATION:PT1H
X-Robots-Tag:noindex
X-PUBLISHED-TTL:PT1H
BEGIN:VTIMEZONE
TZID:America/New_York
BEGIN:DAYLIGHT
TZOFFSETFROM:-0500
TZOFFSETTO:-0400
TZNAME:EDT
DTSTART:20220313T070000
END:DAYLIGHT
BEGIN:STANDARD
TZOFFSETFROM:-0400
TZOFFSETTO:-0500
TZNAME:EST
DTSTART:20221106T060000
END:STANDARD
BEGIN:DAYLIGHT
TZOFFSETFROM:-0500
TZOFFSETTO:-0400
TZNAME:EDT
DTSTART:20230312T070000
END:DAYLIGHT
BEGIN:STANDARD
TZOFFSETFROM:-0400
TZOFFSETTO:-0500
TZNAME:EST
DTSTART:20231105T060000
END:STANDARD
BEGIN:DAYLIGHT
TZOFFSETFROM:-0500
TZOFFSETTO:-0400
TZNAME:EDT
DTSTART:20240310T070000
END:DAYLIGHT
BEGIN:STANDARD
TZOFFSETFROM:-0400
TZOFFSETTO:-0500
TZNAME:EST
DTSTART:20241103T060000
END:STANDARD
END:VTIMEZONE
BEGIN:VEVENT
DTSTART;TZID=America/New_York:20231007T160000
DTEND;TZID=America/New_York:20231007T193000
DTSTAMP:20260419T212748
CREATED:20231005T231327Z
LAST-MODIFIED:20231006T015330Z
UID:2428-1696694400-1696707000@feverrecords.com
SUMMARY:THE 5TH ANNUAL FREESTYLE FOR A CAUSE CHARITY EVENT @ PARADISE ISLAND
DESCRIPTION:Saturday October 7th 2023\n@\nParadise Island\n225 Ellis St. Staten Island Ny\n \nThe Fifth Annual Freestyle For A Cause \nAt Paradise Island All New Indoor Club!\nAll Proceeds To Benefit Autism Warrior’s And Making Strides For Breast Cancer Awareness\nOn Behalf Of The Erika Roman Charity Foundation Inc.\n \nLive Performances By:\nCynthia \nBetty Dee Of Sweet Sensation \nFascination \nSammy Zone\nGeorge Anthony \nDenine\nMaria Venuto\nVinny Medugno \n \nHosted By Sal Abbatiello Of Fever Records \nMusic By: Dj James Madball Canade (And Special Guests)\n \nDoors Open At 8:00pm\nAdvanced Admission $30 Donation\nFor Tickets Click Here: Https://Bit.Ly/46pat46\nFor More Info Contact Kristina 917-991-4542
URL:https://feverrecords.com/event/the-5th-annual-freestyle-for-a-cause-charity-event-paradise-island-staten-island-ny/
LOCATION:@Paradise Islad\, 225 Ellis St. Staten Island Ny\, New York\, NY\, 10307\, United States
CATEGORIES:Special Events
ATTACH;FMTTYPE=image/jpeg:https://feverrecords.com/wp-content/uploads/2023/10/PARADISE-ERIKA-10-7-23.jpg
END:VEVENT
END:VCALENDAR