BEGIN:VCALENDAR
VERSION:2.0
PRODID:-//Fever Records - ECPv6.15.20//NONSGML v1.0//EN
CALSCALE:GREGORIAN
METHOD:PUBLISH
X-ORIGINAL-URL:https://feverrecords.com
X-WR-CALDESC:Events for Fever Records
REFRESH-INTERVAL;VALUE=DURATION:PT1H
X-Robots-Tag:noindex
X-PUBLISHED-TTL:PT1H
BEGIN:VTIMEZONE
TZID:America/New_York
BEGIN:DAYLIGHT
TZOFFSETFROM:-0500
TZOFFSETTO:-0400
TZNAME:EDT
DTSTART:20220313T070000
END:DAYLIGHT
BEGIN:STANDARD
TZOFFSETFROM:-0400
TZOFFSETTO:-0500
TZNAME:EST
DTSTART:20221106T060000
END:STANDARD
BEGIN:DAYLIGHT
TZOFFSETFROM:-0500
TZOFFSETTO:-0400
TZNAME:EDT
DTSTART:20230312T070000
END:DAYLIGHT
BEGIN:STANDARD
TZOFFSETFROM:-0400
TZOFFSETTO:-0500
TZNAME:EST
DTSTART:20231105T060000
END:STANDARD
BEGIN:DAYLIGHT
TZOFFSETFROM:-0500
TZOFFSETTO:-0400
TZNAME:EDT
DTSTART:20240310T070000
END:DAYLIGHT
BEGIN:STANDARD
TZOFFSETFROM:-0400
TZOFFSETTO:-0500
TZNAME:EST
DTSTART:20241103T060000
END:STANDARD
END:VTIMEZONE
BEGIN:VEVENT
DTSTART;TZID=America/New_York:20231021T153000
DTEND;TZID=America/New_York:20231021T193000
DTSTAMP:20260419T212820
CREATED:20230802T231756Z
LAST-MODIFIED:20230802T231756Z
UID:2329-1697902200-1697916600@feverrecords.com
SUMMARY:MONSTERS OF FREESTYLE CONCERT "BACK IN BLACK EDITION" @ NYCB THEATER\, WESTBURY NY
DESCRIPTION:Saturday October 21st 2023\n@\nNYCB Theater At Westbury\n960 Brush Hollow Rd Westbury\, Ny 11590\n \nThe Monsters Of Freestyle\n“Back In Black Edition”\n \n**TIICKETS ON SALE NOW**\n“Artist Line up To Be Announced”\n \nHosted By\nSal Abbatiello\n \nMusic By\nDj Johnny Shine\n \nDoors Open @ 6:30pm\nShowtime @ 7:30pm\nFor Tickets Click Here: https://livemu.sc/3Qo5DJb\nOr Visit Ticketmaster\nFor More Info: 914-725-0011
URL:https://feverrecords.com/event/monsters-of-freestyle-concert-back-in-black-edition-nycb-theater-westbury-ny/
LOCATION:@  NYCB Theater At Westbury\, 960 Brush Hollow Rd\, Westbury\, New York\, 11590
CATEGORIES:Special Events
ATTACH;FMTTYPE=image/jpeg:https://feverrecords.com/wp-content/uploads/2023/08/westbury-2023-teaser.jpg
END:VEVENT
END:VCALENDAR