BEGIN:VCALENDAR
VERSION:2.0
PRODID:-//Fever Records - ECPv6.15.20//NONSGML v1.0//EN
CALSCALE:GREGORIAN
METHOD:PUBLISH
X-WR-CALNAME:Fever Records
X-ORIGINAL-URL:https://feverrecords.com
X-WR-CALDESC:Events for Fever Records
REFRESH-INTERVAL;VALUE=DURATION:PT1H
X-Robots-Tag:noindex
X-PUBLISHED-TTL:PT1H
BEGIN:VTIMEZONE
TZID:America/New_York
BEGIN:DAYLIGHT
TZOFFSETFROM:-0500
TZOFFSETTO:-0400
TZNAME:EDT
DTSTART:20220313T070000
END:DAYLIGHT
BEGIN:STANDARD
TZOFFSETFROM:-0400
TZOFFSETTO:-0500
TZNAME:EST
DTSTART:20221106T060000
END:STANDARD
BEGIN:DAYLIGHT
TZOFFSETFROM:-0500
TZOFFSETTO:-0400
TZNAME:EDT
DTSTART:20230312T070000
END:DAYLIGHT
BEGIN:STANDARD
TZOFFSETFROM:-0400
TZOFFSETTO:-0500
TZNAME:EST
DTSTART:20231105T060000
END:STANDARD
BEGIN:DAYLIGHT
TZOFFSETFROM:-0500
TZOFFSETTO:-0400
TZNAME:EDT
DTSTART:20240310T070000
END:DAYLIGHT
BEGIN:STANDARD
TZOFFSETFROM:-0400
TZOFFSETTO:-0500
TZNAME:EST
DTSTART:20241103T060000
END:STANDARD
END:VTIMEZONE
BEGIN:VEVENT
DTSTART;TZID=America/New_York:20231027T160000
DTEND;TZID=America/New_York:20231027T193000
DTSTAMP:20260419T212741
CREATED:20231005T234411Z
LAST-MODIFIED:20231005T234411Z
UID:2433-1698422400-1698435000@feverrecords.com
SUMMARY:PINK THE NIGHT CHARITY EVENT @ REBAR BY THE BRIDGE
DESCRIPTION:Friday October 27th 2023\n@\nRebar By The Bridge\n15-07 150th St Whitestone NY\n \nDarlene Free & Erika Roman Charity Foundation Presents\nThe 4th Annual Pink The Night\nAll Proceeds Go To The American Cancer Society “Making Strides”\n \nCelebrity Guest Bartenders Serving Your Drinks\nCynthia (Freestyle Legend & Dreamgirl)\nBetty Dee (Of The Legendary Group Sweet Sensation)\nAnd A Very Special Surprise Invited Guest \n \nMusic By\nNitro\, Dj Whiteboy KYS\, Dj O\, Dj Blazer One\, Dj Solo\n \nHosted By\nDarlene Free & Fever Records Own Sal Abbatiello\n \nEvent Starts @ 8:00pm // Event Ends @ 1:00am\n$20 Donation At The Door (Includes Free Raffle Tickets)\nFor More Info Call: 914-725-0011
URL:https://feverrecords.com/event/pink-the-night-charity-event-rebar-by-the-bridge/
LOCATION:@Rebar By The Bridge\, 15-07 150th St Whitestone NY\, New York\, NY\, 11357\, United States
CATEGORIES:Special Events
ATTACH;FMTTYPE=image/jpeg:https://feverrecords.com/wp-content/uploads/2023/10/REBAR-ERIKA-2023.jpg
END:VEVENT
END:VCALENDAR