BEGIN:VCALENDAR
VERSION:2.0
PRODID:-//Fever Records - ECPv6.15.20//NONSGML v1.0//EN
CALSCALE:GREGORIAN
METHOD:PUBLISH
X-WR-CALNAME:Fever Records
X-ORIGINAL-URL:https://feverrecords.com
X-WR-CALDESC:Events for Fever Records
REFRESH-INTERVAL;VALUE=DURATION:PT1H
X-Robots-Tag:noindex
X-PUBLISHED-TTL:PT1H
BEGIN:VTIMEZONE
TZID:America/New_York
BEGIN:DAYLIGHT
TZOFFSETFROM:-0500
TZOFFSETTO:-0400
TZNAME:EDT
DTSTART:20220313T070000
END:DAYLIGHT
BEGIN:STANDARD
TZOFFSETFROM:-0400
TZOFFSETTO:-0500
TZNAME:EST
DTSTART:20221106T060000
END:STANDARD
BEGIN:DAYLIGHT
TZOFFSETFROM:-0500
TZOFFSETTO:-0400
TZNAME:EDT
DTSTART:20230312T070000
END:DAYLIGHT
BEGIN:STANDARD
TZOFFSETFROM:-0400
TZOFFSETTO:-0500
TZNAME:EST
DTSTART:20231105T060000
END:STANDARD
BEGIN:DAYLIGHT
TZOFFSETFROM:-0500
TZOFFSETTO:-0400
TZNAME:EDT
DTSTART:20240310T070000
END:DAYLIGHT
BEGIN:STANDARD
TZOFFSETFROM:-0400
TZOFFSETTO:-0500
TZNAME:EST
DTSTART:20241103T060000
END:STANDARD
END:VTIMEZONE
BEGIN:VEVENT
DTSTART;TZID=America/New_York:20231028T140000
DTEND;TZID=America/New_York:20231028T193000
DTSTAMP:20260419T212744
CREATED:20230720T015403Z
LAST-MODIFIED:20231010T000326Z
UID:2276-1698501600-1698521400@feverrecords.com
SUMMARY:FREESTYLE FALL HARVEST CONCERT @ THE WESTCHESTER COUNTY CENTER
DESCRIPTION:Saturday October 28th 2023\n@\nThe Westchester County Center\n198 Central Ave. White Plains Ny\n\nFreestyle Fall Harvest Concert\nPerforming Live On Stage\n TKA\n“Maria”\n“Tears May Fall”\n George LaMond\n“Bad Of The Heart”\n“Look Into My Eyes”\n Noel\n“Silent Morning”\n“The Question”\n Betty D Of Sweet Sensation\n“Love Child”\n“Hooked On You”\n Safire\n“Boy I’ve Been Told”\n“Let Me Be The One”\n The Cover Girls\n“Show Me”\n“Because Of You”\n Brenda K Starr\n“I Still Believe”\n“Pickin Up Pieces”\n Cynthia\n“Change On Me”\n“Endless Night\n Coro\n“Can’t Let You Go”\n“Where Are You Tonight”\n Soave\n“Crying Over You”\n“If You Want Me”\n C-Bank\n“One More Shot”\n“Won’t Stop Loving You”\n \nHosted By\nSal Abbatiello\nSpeedy\n \nMusic By\nDj Serg\nDj WhiteBoy KYS\nDj Vittorio\n\nDoors Open At 6:00pm\nShowtime At 7:000pm\n\nFor More Info Call 914-725-0011\nFor Tickets \nClick Here: https://bit.ly/3pB4ymx\nOr Visit: Ticketmaster.Com
URL:https://feverrecords.com/event/freestyle-halloween-fest-concert-westchester-county-center-white-plains-ny/
LOCATION:@ The Westchester County Center\, 198 Central Ave. White Plains Ny\, New York\, NY\, 10606\, United States
CATEGORIES:Special Events
ATTACH;FMTTYPE=image/jpeg:https://feverrecords.com/wp-content/uploads/2023/07/westchester-county-center-freestyle-10-28-23-scaled.jpg
END:VEVENT
END:VCALENDAR