BEGIN:VCALENDAR
VERSION:2.0
PRODID:-//Fever Records - ECPv6.15.20//NONSGML v1.0//EN
CALSCALE:GREGORIAN
METHOD:PUBLISH
X-WR-CALNAME:Fever Records
X-ORIGINAL-URL:https://feverrecords.com
X-WR-CALDESC:Events for Fever Records
REFRESH-INTERVAL;VALUE=DURATION:PT1H
X-Robots-Tag:noindex
X-PUBLISHED-TTL:PT1H
BEGIN:VTIMEZONE
TZID:America/New_York
BEGIN:DAYLIGHT
TZOFFSETFROM:-0500
TZOFFSETTO:-0400
TZNAME:EDT
DTSTART:20220313T070000
END:DAYLIGHT
BEGIN:STANDARD
TZOFFSETFROM:-0400
TZOFFSETTO:-0500
TZNAME:EST
DTSTART:20221106T060000
END:STANDARD
BEGIN:DAYLIGHT
TZOFFSETFROM:-0500
TZOFFSETTO:-0400
TZNAME:EDT
DTSTART:20230312T070000
END:DAYLIGHT
BEGIN:STANDARD
TZOFFSETFROM:-0400
TZOFFSETTO:-0500
TZNAME:EST
DTSTART:20231105T060000
END:STANDARD
BEGIN:DAYLIGHT
TZOFFSETFROM:-0500
TZOFFSETTO:-0400
TZNAME:EDT
DTSTART:20240310T070000
END:DAYLIGHT
BEGIN:STANDARD
TZOFFSETFROM:-0400
TZOFFSETTO:-0500
TZNAME:EST
DTSTART:20241103T060000
END:STANDARD
END:VTIMEZONE
BEGIN:VEVENT
DTSTART;TZID=America/New_York:20231104T150000
DTEND;TZID=America/New_York:20231104T193000
DTSTAMP:20260419T195739
CREATED:20231006T022044Z
LAST-MODIFIED:20231006T022044Z
UID:2459-1699110000-1699126200@feverrecords.com
SUMMARY:BANK PERFORMING LIVE @ FIRE & OAK WOOD BURNING KITCHEN
DESCRIPTION:Saturday November 4th 2023\n@\nFire & Oak Wood Burning Kitchen\n2025 Albany Post Rd. Croton On Hudson\n \nSaturday Freestyle Fever\n \nLive Performance By\nC-Bank\n“One More Shot”\n“Won’t Stop Loving You”\n \nHosted By Fever Records Own\nSal Abbatiello\n \nMusic By\nDj Vittorio\n \nAdvanced Tickets $40\nIncludes Dinner Buffet\n($20 W/O Buffet)\n \nDoors Open At 7:00pm\nFor Tickets Visit: Https://Cbank.Eventbrite.Com\nFor More Information 914-725-0011
URL:https://feverrecords.com/event/bank-performing-live-fire-oak-wood-burning-kitchen/
LOCATION:@Fire & Oak Wood Burning Kitchen\, 2025 Albany Post Rd. Croton On Hudson\, New York\, NY\, 10520\, United States
CATEGORIES:Special Events
ATTACH;FMTTYPE=image/jpeg:https://feverrecords.com/wp-content/uploads/2023/10/FIRE-N-OAK-C-BANK-11-4-23.jpg
END:VEVENT
END:VCALENDAR