BEGIN:VCALENDAR
VERSION:2.0
PRODID:-//Fever Records - ECPv6.15.20//NONSGML v1.0//EN
CALSCALE:GREGORIAN
METHOD:PUBLISH
X-WR-CALNAME:Fever Records
X-ORIGINAL-URL:https://feverrecords.com
X-WR-CALDESC:Events for Fever Records
REFRESH-INTERVAL;VALUE=DURATION:PT1H
X-Robots-Tag:noindex
X-PUBLISHED-TTL:PT1H
BEGIN:VTIMEZONE
TZID:America/New_York
BEGIN:DAYLIGHT
TZOFFSETFROM:-0500
TZOFFSETTO:-0400
TZNAME:EDT
DTSTART:20230312T070000
END:DAYLIGHT
BEGIN:STANDARD
TZOFFSETFROM:-0400
TZOFFSETTO:-0500
TZNAME:EST
DTSTART:20231105T060000
END:STANDARD
BEGIN:DAYLIGHT
TZOFFSETFROM:-0500
TZOFFSETTO:-0400
TZNAME:EDT
DTSTART:20240310T070000
END:DAYLIGHT
BEGIN:STANDARD
TZOFFSETFROM:-0400
TZOFFSETTO:-0500
TZNAME:EST
DTSTART:20241103T060000
END:STANDARD
BEGIN:DAYLIGHT
TZOFFSETFROM:-0500
TZOFFSETTO:-0400
TZNAME:EDT
DTSTART:20250309T070000
END:DAYLIGHT
BEGIN:STANDARD
TZOFFSETFROM:-0400
TZOFFSETTO:-0500
TZNAME:EST
DTSTART:20251102T060000
END:STANDARD
END:VTIMEZONE
BEGIN:VEVENT
DTSTART;TZID=America/New_York:20240127T140000
DTEND;TZID=America/New_York:20240127T183000
DTSTAMP:20260419T171131
CREATED:20231006T020513Z
LAST-MODIFIED:20231006T020513Z
UID:2453-1706364000-1706380200@feverrecords.com
SUMMARY:STATE THEATRE NJ FREESTYLE @ STATE THEATRE NEW JERSEY
DESCRIPTION:Saturday January 27th 2024\n@\nState Theatre New Jersey\n15 Livingston Ave\, New Brunswick\, Nj 08901\n \nState Theatre NJ\nFreestyle Flashback Concert 2024\n \nPerforming Live On Stage\nTKA\nJudy Torres\nCynthia\nCoro\nBetty D Of Sweet Sensation\nThe Cover Girls\nBrenda K Starr\nSoave\nPretty Poison\nJoe Zangie\nSammy Zone\n \nHosted By\nSal Abbatiello\nSpeedy\n \nMusic By\nDj WhiteBoy KYS\n \nDoors Open @ 7:00pm\nShowtime @ 8:00pm\nFor Tickets Click Here: https://bit.ly/45oJtuo\nOr Visit: STNJ.org\nFor More Info Call 914-725-0011
URL:https://feverrecords.com/event/state-theatre-nj-freestyle-state-theatre-new-jersey/
LOCATION:@ State Theatre New Jersey\, 15 Livingston Ave\, New Brunswick\, New Jersey\, NJ\, 08901\, United States
CATEGORIES:Special Events
ATTACH;FMTTYPE=image/jpeg:https://feverrecords.com/wp-content/uploads/2023/10/STATE-THEATRE-NJ-FREESTYLE-1-27-24.jpg
END:VEVENT
END:VCALENDAR