BEGIN:VCALENDAR
VERSION:2.0
PRODID:-//Fever Records - ECPv6.15.20//NONSGML v1.0//EN
CALSCALE:GREGORIAN
METHOD:PUBLISH
X-ORIGINAL-URL:https://feverrecords.com
X-WR-CALDESC:Events for Fever Records
REFRESH-INTERVAL;VALUE=DURATION:PT1H
X-Robots-Tag:noindex
X-PUBLISHED-TTL:PT1H
BEGIN:VTIMEZONE
TZID:America/New_York
BEGIN:DAYLIGHT
TZOFFSETFROM:-0500
TZOFFSETTO:-0400
TZNAME:EDT
DTSTART:20230312T070000
END:DAYLIGHT
BEGIN:STANDARD
TZOFFSETFROM:-0400
TZOFFSETTO:-0500
TZNAME:EST
DTSTART:20231105T060000
END:STANDARD
BEGIN:DAYLIGHT
TZOFFSETFROM:-0500
TZOFFSETTO:-0400
TZNAME:EDT
DTSTART:20240310T070000
END:DAYLIGHT
BEGIN:STANDARD
TZOFFSETFROM:-0400
TZOFFSETTO:-0500
TZNAME:EST
DTSTART:20241103T060000
END:STANDARD
BEGIN:DAYLIGHT
TZOFFSETFROM:-0500
TZOFFSETTO:-0400
TZNAME:EDT
DTSTART:20250309T070000
END:DAYLIGHT
BEGIN:STANDARD
TZOFFSETFROM:-0400
TZOFFSETTO:-0500
TZNAME:EST
DTSTART:20251102T060000
END:STANDARD
END:VTIMEZONE
BEGIN:VEVENT
DTSTART;TZID=America/New_York:20240517T150000
DTEND;TZID=America/New_York:20240517T150000
DTSTAMP:20260419T112416
CREATED:20240514T234550Z
LAST-MODIFIED:20240514T234550Z
UID:2635-1715958000-1715958000@feverrecords.com
SUMMARY:Dreamgirl Cynthia Foundation @The Hilton Garden Inn
DESCRIPTION:Friday\, May 17th\, 2024\n@The Hilton Garden Inn\n1100 South Ave. Staten Island Ny 10314\nThe Dreamgirl Cynthia Foundation Inc. Proudly Presents\nThe Casino Night Fundraiser\n(Proceeds To Benefit St. Jude’s Children’s Research Hospital)\nLive Performances By\nAngelo Venuto\nMaria Venuto\nLisa Messina\nVinny Medugno\nMusic Provided By Da Clubkilla\nDj Blazer One\nPlaying The Best Of Everything\nTickets Must Be Purchased In Advance.\n$140 Per Person Includes: Buffet Dinner – Open Bar – Raffles – 50/50 – Dancing – Casino Tables\nPurchase Tickets On Venmo\nVenmo: @ Dreamgirlcynthiafoundation-1\nOr Click Here: venmo.com/u/Dreamgirlcynthiafoundation-1\nEvent Starts: 7:00pm\nParty Till: 12:00am\n \nIf Anyone Is Interested In Sponsoring A Casino Table\nOr Donating A Raffle Basket\, Please Contact Kristina 917-991-4542\nFor More Information Contact Fever 914-725-0011
URL:https://feverrecords.com/event/dreamgirl-cynthia-foundation-the-hilton-garden-inn/
LOCATION:The Hilton Garden\, 1100 South Ave\, Staten Island\, New York\, NY\, 10314\, United States
CATEGORIES:Special Events
ATTACH;FMTTYPE=image/jpeg:https://feverrecords.com/wp-content/uploads/2024/05/cynthia-casino-hilton-garden-inn-2024.jpg
END:VEVENT
END:VCALENDAR