BEGIN:VCALENDAR
VERSION:2.0
PRODID:-//Fever Records - ECPv6.15.20//NONSGML v1.0//EN
CALSCALE:GREGORIAN
METHOD:PUBLISH
X-ORIGINAL-URL:https://feverrecords.com
X-WR-CALDESC:Events for Fever Records
REFRESH-INTERVAL;VALUE=DURATION:PT1H
X-Robots-Tag:noindex
X-PUBLISHED-TTL:PT1H
BEGIN:VTIMEZONE
TZID:America/New_York
BEGIN:DAYLIGHT
TZOFFSETFROM:-0500
TZOFFSETTO:-0400
TZNAME:EDT
DTSTART:20230312T070000
END:DAYLIGHT
BEGIN:STANDARD
TZOFFSETFROM:-0400
TZOFFSETTO:-0500
TZNAME:EST
DTSTART:20231105T060000
END:STANDARD
BEGIN:DAYLIGHT
TZOFFSETFROM:-0500
TZOFFSETTO:-0400
TZNAME:EDT
DTSTART:20240310T070000
END:DAYLIGHT
BEGIN:STANDARD
TZOFFSETFROM:-0400
TZOFFSETTO:-0500
TZNAME:EST
DTSTART:20241103T060000
END:STANDARD
BEGIN:DAYLIGHT
TZOFFSETFROM:-0500
TZOFFSETTO:-0400
TZNAME:EDT
DTSTART:20250309T070000
END:DAYLIGHT
BEGIN:STANDARD
TZOFFSETFROM:-0400
TZOFFSETTO:-0500
TZNAME:EST
DTSTART:20251102T060000
END:STANDARD
END:VTIMEZONE
BEGIN:VEVENT
DTSTART;TZID=America/New_York:20240530T140000
DTEND;TZID=America/New_York:20240530T190000
DTSTAMP:20260419T100757
CREATED:20240526T032057Z
LAST-MODIFIED:20240526T032057Z
UID:2683-1717077600-1717095600@feverrecords.com
SUMMARY:THE ORIGINAL FREESTYLE THURSDAYS @ SAXON GRILL
DESCRIPTION:Thursday May 30TH 2024\n(And Every Thursday)\n@Saxon Grill\n315 Mamaroneck Rd. Scarsdale Ny 10583\n(Exit 12 On The Hutchinson Parkway)\nFever Records Presents\nThe Original Freestyle Fever Thursday\nOutdoors On The Patio\nHosted By\nSal Abbatiello\nAnd Lori Anne\nMusic By Fever Records & ClubKillas Own\nDj WhiteBoy KYS\nDj Nitro\nAlong With Special Guest DJ’s & Performances\nFood & Drink Specials All Night\nBottle Service Available\nTable Reservations Available\nParty 6:00pm To 11:00pm\nFor Discounted Advanced Admission\nClick Here: https://FREESTYLETHURSDAYS.eventbrite.com \nOr Visit Eventbrite.Com\nFor More Info Call: 914-725-0011\n \nFree Parking / Casual Dress Code / 21 And Over\nThis Event Is Weather Permitting
URL:https://feverrecords.com/event/the-original-freestyle-thursdays-saxon-grill/
LOCATION:@ Saxon Grill\, Scarsdale NY\, 315 Mamaroneck Rd. Scarsdale\, New York\, 10583\, United States
CATEGORIES:Special Events
ATTACH;FMTTYPE=image/jpeg:https://feverrecords.com/wp-content/uploads/2024/05/SAXON-2024-EVERY-THUR.jpg
END:VEVENT
END:VCALENDAR